BEGIN:VCALENDAR
VERSION:2.0
PRODID:-//ChamberMaster//Event Calendar 2.0//EN
METHOD:PUBLISH
X-PUBLISHED-TTL:P3D
REFRESH-INTERVAL:P3D
CALSCALE:GREGORIAN
BEGIN:VEVENT
DTSTART:20251206T150000Z
DTEND:20251206T210000Z
X-MICROSOFT-CDO-ALLDAYEVENT:FALSE
SUMMARY:Youth Action Hudson's Annual Holiday Craft Fair
DESCRIPTION:This event will be held on Saturday\, December 6th from 9AM to 3PM at Hudson Middle School\, 1300 Carmichael Rd\, Hudson Wisconsin. Last year we had over 2000 people attend and 150 vendors!\n\n \n\n\n\nRegistrations for handcrafted items will be reviewed on a first come first serve basis\, so we encourage you to submit your registration information as soon as possible. Remaining spaces (if available) will be offered to individuals selling direct marketing products. Space size is 10' x 6' at a cost of $85. There will be no refunds as this is a fundraiser.
X-ALT-DESC;FMTTYPE=text/html:<div>\n<div>This event will be held on Saturday\, December 6th from 9AM to 3PM at Hudson Middle School\, 1300 Carmichael Rd\, Hudson Wisconsin. Last year we had over 2000 people attend and 150 vendors!<br />\n&nbsp\;</div>\n</div>\n\n<div>\n<div>Registrations for handcrafted items will be reviewed on a first come first serve basis\, so we encourage you to submit your registration information as soon as possible. Remaining spaces (if available) will be offered to individuals selling direct marketing products. Space size is 10&rsquo\; x 6&rsquo\; at a cost of $85. There will be no refunds as this is a fundraiser.</div>\n</div>\n
LOCATION:Hudson Middle School 1300 Carmichael Road Hudson WI 54016
UID:e.2450.36684
SEQUENCE:3
DTSTAMP:20260420T204605Z
URL:https://members.hudsonwi.org/events/details/youth-action-hudson-s-annual-holiday-craft-fair-12-06-2025-36684
END:VEVENT

END:VCALENDAR
