BEGIN:VCALENDAR
VERSION:2.0
PRODID:-//ChamberMaster//Event Calendar 2.0//EN
METHOD:PUBLISH
X-PUBLISHED-TTL:P3D
REFRESH-INTERVAL:P3D
CALSCALE:GREGORIAN
BEGIN:VEVENT
DTSTART:20240917T230000Z
DTEND:20240918T010000Z
X-MICROSOFT-CDO-ALLDAYEVENT:FALSE
SUMMARY:Young Professionals of the St. Croix Valley - Barbiecore Mix & Mingle
DESCRIPTION:Join us for a fun night of networking at the Barbiecore in Hudson!\n\n\n\nEmbrace your inner Barbie and Ken as we mix business with a splash of pink and pizzazz. Whether you're looking to make new connections\, explore exciting opportunities\, or simply enjoy a chic evening with fellow young professionals\, this event is your chance to shine! \n\n\n\nWhat to expect:\n\n	Fun Networking: Connect with like-minded professionals in a fun and vibrant atmosphere.\n	Glamorous Ambiance: Immerse yourself in the Barbiecore theme with fun/pink decor\, chic vibes\, and playful details.\n	Delicious Drinks & Bites: Enjoy a selection of cocktail and NA options as well as some light bites while you mingle.\n	Photo Opportunities: Capture the night with Barbiecore inspired photo areas throughout! \n	Dress Code: Barbiecore style - think bold\, pink\, and fabulous! Prize for best dressed!\n\nThis is going to be a really fun and unique networking opportunity. Don't miss out! \n\n\n\nRSVP and secure your spot by selecting "going" in the Facebook event or email: ypstcroixvalley@gmail.com \n\n\n\nHope to see you out!\n\n-YP Team
X-ALT-DESC;FMTTYPE=text/html:Join us for a fun night of networking at the Barbiecore in Hudson!<br />\n<br />\nEmbrace your inner Barbie and Ken as we mix business with a splash of pink and pizzazz. Whether you&#39\;re looking to make new connections\, explore exciting opportunities\, or simply enjoy a chic evening with fellow young professionals\, this event is your chance to shine!&nbsp\;<br />\n<br />\nWhat to expect:\n<ul>\n	<li>Fun Networking: Connect with like-minded professionals in a fun and vibrant atmosphere.</li>\n	<li>Glamorous Ambiance: Immerse yourself in the Barbiecore theme with fun/pink decor\, chic vibes\, and playful details.</li>\n	<li>Delicious Drinks &amp\; Bites: Enjoy a selection of cocktail and NA options as well as some light bites while you mingle.</li>\n	<li>Photo Opportunities: Capture the night with Barbiecore inspired photo areas throughout!&nbsp\;</li>\n	<li>Dress Code: Barbiecore style - think bold\, pink\, and fabulous! Prize for best dressed!</li>\n</ul>\nThis is going to be a really fun and unique networking opportunity. Don&#39\;t miss out!&nbsp\;<br />\n<br />\nRSVP and secure your spot by selecting &quot\;going&quot\; in the Facebook event or email: ypstcroixvalley@gmail.com&nbsp\;<br />\n<br />\nHope to see you out!<br />\n-YP Team
LOCATION:Barbiecore 1031 2nd St Hudson\, WI 54016
UID:e.2450.30750
SEQUENCE:3
DTSTAMP:20260425T153145Z
URL:https://members.hudsonwi.org/events/details/young-professionals-of-the-st-croix-valley-barbiecore-mix-mingle-30750
END:VEVENT

END:VCALENDAR
