BEGIN:VCALENDAR
VERSION:2.0
PRODID:-//ChamberMaster//Event Calendar 2.0//EN
METHOD:PUBLISH
X-PUBLISHED-TTL:P3D
REFRESH-INTERVAL:P3D
CALSCALE:GREGORIAN
BEGIN:VEVENT
DTSTART;VALUE=DATE:20190802
DTEND;VALUE=DATE:20190803
TRANSP:TRANSPARENT
X-MICROSOFT-CDO-ALLDAYEVENT:TRUE
SUMMARY:The Snow Queen | Children’s Theater
DESCRIPTION:Kay and Gerda are the best of friends until a piece of an enchanted mirror finds its way into Kay's eye\, causing him to see the world in a cold-hearted way. Soon taken by the Snow Queen\, Kay forgets his happy life. Gerda must go on her own journey to find him\, encountering many interesting characters along the way. Overjoyed to finally find Kay in the Snow Queen's palace\, Gerda must help Kay find hope again by solving a puzzle before they can escape.
X-ALT-DESC;FMTTYPE=text/html:Kay and Gerda are the best of friends until a piece of an enchanted mirror finds its way into Kay&rsquo\;s eye\, causing him to see the world in a cold-hearted way. Soon taken by the Snow Queen\, Kay forgets his happy life. Gerda must go on her own journey to find him\, encountering many interesting characters along the way. Overjoyed to finally find Kay in the Snow Queen&rsquo\;s palace\, Gerda must help Kay find hope again by solving a puzzle before they can escape.
LOCATION:
UID:e.2450.14486
SEQUENCE:3
DTSTAMP:20260423T181534Z
URL:https://members.hudsonwi.org/events/details/the-snow-queen-children-s-theater-08-02-2019-14486
END:VEVENT

END:VCALENDAR
