BEGIN:VCALENDAR
VERSION:2.0
PRODID:-//ChamberMaster//Event Calendar 2.0//EN
METHOD:PUBLISH
X-PUBLISHED-TTL:P3D
REFRESH-INTERVAL:P3D
CALSCALE:GREGORIAN
BEGIN:VEVENT
DTSTART;VALUE=DATE:20190817
DTEND;VALUE=DATE:20190818
TRANSP:TRANSPARENT
X-MICROSOFT-CDO-ALLDAYEVENT:TRUE
SUMMARY:The Classic Big Band and The Nostalgics
DESCRIPTION:This hot 17-piece band is dedicated to preserving the original sounds of the great bands of the swing era\, such as Miller\, Dorsey\, Goodman\, Shaw\, and James\; while The Nostalgics recreate the close harmonies of vocal groups of the 1940s.
X-ALT-DESC;FMTTYPE=text/html:This hot 17-piece band is dedicated to preserving the original sounds of the great bands of the swing era\, such as Miller\, Dorsey\, Goodman\, Shaw\, and James\; while The Nostalgics recreate the close harmonies of vocal groups of the 1940s.
LOCATION:
UID:e.2450.14481
SEQUENCE:3
DTSTAMP:20260423T180459Z
URL:https://members.hudsonwi.org/events/details/the-classic-big-band-and-the-nostalgics-14481
END:VEVENT

END:VCALENDAR
