BEGIN:VCALENDAR
VERSION:2.0
PRODID:-//ChamberMaster//Event Calendar 2.0//EN
METHOD:PUBLISH
X-PUBLISHED-TTL:P3D
REFRESH-INTERVAL:P3D
CALSCALE:GREGORIAN
BEGIN:VEVENT
DTSTART:20240623T210000Z
DTEND:20240623T230000Z
X-MICROSOFT-CDO-ALLDAYEVENT:FALSE
SUMMARY:Tattersall Bootleg Sessions: Steve Clarke & The Working Stiffs
DESCRIPTION:Free outdoor concert in the Tattersall Amphitheater. Performance starts at 4:00pm. Doors open at 3:30pm. \n\n\n\nSeating will be available for guests who wish to sit during the show. \n\n\n\nAbout the band : https://www.thesteveclarke.com/working-stiffs
X-ALT-DESC;FMTTYPE=text/html:Free outdoor concert in the Tattersall Amphitheater. Performance starts at 4:00pm. Doors open at 3:30pm.&nbsp\;<br />\n<br />\nSeating will be available for guests who wish to sit during the show.&nbsp\;<br />\n<br />\nAbout the band : <a href="http://Free outdoor concert in the Tattersall Amphitheater. Performance starts at 4:00pm. Doors open at 3:30pm.   Seating will be available for guests who wish to sit during the show.   About the band : https://www.thesteveclarke.com/working-stiffs">https://www.thesteveclarke.com/working-stiffs</a>
LOCATION:
UID:e.2450.30328
SEQUENCE:3
DTSTAMP:20260425T203830Z
URL:https://members.hudsonwi.org/events/details/tattersall-bootleg-sessions-the-jorgensens-06-23-2024-30328
END:VEVENT

END:VCALENDAR
