BEGIN:VCALENDAR
VERSION:2.0
PRODID:-//ChamberMaster//Event Calendar 2.0//EN
METHOD:PUBLISH
X-PUBLISHED-TTL:P3D
REFRESH-INTERVAL:P3D
CALSCALE:GREGORIAN
BEGIN:VEVENT
DTSTART;VALUE=DATE:20190716
DTEND;VALUE=DATE:20190722
TRANSP:TRANSPARENT
X-MICROSOFT-CDO-ALLDAYEVENT:TRUE
SUMMARY:St. Croix RiverFest
DESCRIPTION:The Party\n\nJOIN US FOR Hudson's annual RiverFest celebration on July 16-21\, 2019. \n\nSeveral local organizations and individuals have collaborated to make RiverFest  "A Party with a Purpose" a success.  The five-day event celebrates the river while also recognizing the need to preserve its health and beauty.\n\n\n\nThe Purpose\n\nThe annual river cleanup is a core activity of the Hudson RiverFest. Community volunteers form teams (bags and gloves are provided) get out on the river collecting trash and working to help clean up the river.  While the goal of RiverFest is to get people out to enjoy the river\, the river cleanup is the "Purpose" for the celebration.\n\n\n\nThe Hudson RiverFest was born out of the St. Croix River Association?s River Awareness Week and with a goal building awareness of the St. Croix River.  RiverFest encourages people to enjoy\, understand and preserve this national treasure that flows right past our community.\n\n\n\nThe RiverFest activities are planned to appeal to a variety of people. All of the activities share a common thread of building awareness of the river\, our environment and education on the need to preserve our water quality.\n\n\n\nPlease see the website for a complete listing of activities and locations. www.stcroixriverfest.org
X-ALT-DESC;FMTTYPE=text/html:<div sans="" source="" style="box-sizing: border-box\; margin: 0px 0px 24px\; font-size: 14pt\; color: rgb(20\, 20\, 18)\;"><span style="font-size:12px\;"><span style="font-family:verdana\;"><strong>The Party</strong><br />\nJOIN US FOR Hudson&#39\;s annual RiverFest celebration on July 16-21\, 2019.&nbsp\;<br />\nSeveral local organizations and individuals have collaborated to make RiverFest&nbsp\; &quot\;A Party with a Purpose&quot\; a success.&nbsp\; The five-day event celebrates the river while also recognizing the need to preserve its health and beauty.<br />\n<br />\n<strong>The Purpose</strong><br />\nThe annual river cleanup is a core activity of the Hudson RiverFest. Community volunteers form teams (bags and gloves are provided) get out on the river collecting trash and working to help clean up the river.&nbsp\; While the goal of RiverFest is to get people out to enjoy the river\, the river cleanup is the &quot\;Purpose&quot\; for the celebration.<br />\n<br />\nThe Hudson RiverFest was born out of the St. Croix River Association?s River Awareness Week and with a goal building awareness of the St. Croix River.&nbsp\; RiverFest encourages people to enjoy\, understand and preserve this national treasure that flows right past our community.<br />\n<br />\nThe RiverFest activities are planned to appeal to a variety of people. All of the activities share a common thread of building awareness of the river\, our environment and education on the need to preserve our water quality.<br />\n<br />\nPlease see the website for a complete listing of activities and locations.&nbsp\;<a href="http://www.stcroixriverfest.org/">www.stcroixriverfest.org</a></span></span></div>\n
LOCATION:
UID:e.2450.10291
SEQUENCE:3
DTSTAMP:20260423T162231Z
URL:https://members.hudsonwi.org/events/details/st-croix-riverfest-10291
END:VEVENT

END:VCALENDAR
