BEGIN:VCALENDAR
VERSION:2.0
PRODID:-//ChamberMaster//Event Calendar 2.0//EN
METHOD:PUBLISH
X-PUBLISHED-TTL:P3D
REFRESH-INTERVAL:P3D
CALSCALE:GREGORIAN
BEGIN:VEVENT
DTSTART:20240713T170000Z
DTEND:20240713T230000Z
X-MICROSOFT-CDO-ALLDAYEVENT:FALSE
SUMMARY:Sour Reunion at Hop & Barrel Brewing Company
DESCRIPTION:Blood Orange and Scaredy Pie reunite in the taproom! Both sours will be available to-go and will be on tap. With the purchase of a pint\, you will receive a dessert from St. Croix Baking. We will also have live music by Garret from 6-8 PM.
X-ALT-DESC;FMTTYPE=text/html:<span style="color: rgb(5\, 5\, 5)\; font-family: &quot\;Segoe UI Historic&quot\;\, &quot\;Segoe UI&quot\;\, Helvetica\, Arial\, sans-serif\; font-size: 15px\;">Blood Orange and Scaredy Pie reunite in the taproom! Both sours will be available to-go and will be on tap. With the purchase of a pint\, you will receive a dessert from St. Croix Baking. We will also have live music by Garret from 6-8 PM.</span>
LOCATION:Hop & Barrel Brewing Company 310 2nd Street
UID:e.2450.30635
SEQUENCE:3
DTSTAMP:20260425T184555Z
URL:https://members.hudsonwi.org/events/details/sour-reunion-at-hop-barrel-brewing-company-30635
END:VEVENT

END:VCALENDAR
