BEGIN:VCALENDAR
VERSION:2.0
PRODID:-//ChamberMaster//Event Calendar 2.0//EN
METHOD:PUBLISH
X-PUBLISHED-TTL:P3D
REFRESH-INTERVAL:P3D
CALSCALE:GREGORIAN
BEGIN:VEVENT
DTSTART:20260308T000000Z
DTEND:20260308T033000Z
X-MICROSOFT-CDO-ALLDAYEVENT:FALSE
SUMMARY:Sip\, Swirl & Sample - The Hudson Lions Club
DESCRIPTION:Delicious pairings of food & beverages from these local favorites: \n\nFowler Wine & That Girl Brie\n\n45th Parallel & Post - American Eatery \n\nTattersall Distillery & Hudco To Go \n\nRustic Roots Winery & Buffalo Wild Wings\n\nKul Moks (Non-Alcoholic Beverage)\n\n\n\nLive music from Nici Peper 6:00 p.m. to 8:00 p.m.
X-ALT-DESC;FMTTYPE=text/html:Delicious pairings of food &amp\; beverages from these local favorites:&nbsp\;<br />\nFowler Wine &amp\; That Girl Brie<br />\n45th Parallel &amp\; Post - American Eatery&nbsp\;<br />\nTattersall Distillery &amp\; Hudco To Go&nbsp\;<br />\nRustic Roots Winery &amp\; Buffalo Wild Wings<br />\nKul Moks (Non-Alcoholic Beverage)<br />\n<br />\nLive music from Nici Peper 6:00 p.m. to 8:00 p.m.
LOCATION:White Eagle Golf Club 316 White Eagle Trl\, Hudson
UID:e.2450.38496
SEQUENCE:3
DTSTAMP:20260420T133008Z
URL:https://members.hudsonwi.org/events/details/sip-swirl-sample-the-hudson-lions-club-38496
END:VEVENT

END:VCALENDAR
