BEGIN:VCALENDAR
VERSION:2.0
PRODID:-//ChamberMaster//Event Calendar 2.0//EN
METHOD:PUBLISH
X-PUBLISHED-TTL:P3D
REFRESH-INTERVAL:P3D
CALSCALE:GREGORIAN
BEGIN:VEVENT
DTSTART:20260223T170000Z
DTEND:20260223T173000Z
X-MICROSOFT-CDO-ALLDAYEVENT:FALSE
SUMMARY:Ribbon Cutting - Pine Valley Counseling LLC - 2/23/26
DESCRIPTION:Join us as we welcome Pine Valley Counseling LLC to the Chamber!\n\n	Pictures will be taken throughout the Ribbon Cutting ceremony.
X-ALT-DESC;FMTTYPE=text/html:Join us as we welcome Pine Valley Counseling LLC to the Chamber!\n<ul>\n	<li style="font-size: 14px\; line-height: 19.6px\;"><span style="font-family: arial\, helvetica\, sans-serif\; background-color: rgba(255\, 255\, 255\, 0)\; line-height: 19.6px\;">Pictures will be taken throughout the Ribbon Cutting ceremony.&nbsp\;</span></li>\n</ul>\n
LOCATION:Pine Valley Counseling LLC 625 Commerce Dr. Suite 119
UID:e.2450.38298
SEQUENCE:3
DTSTAMP:20260420T151416Z
URL:https://members.hudsonwi.org/events/details/ribbon-cutting-bethel-lutheran-church-10-7-25-38298
END:VEVENT

END:VCALENDAR
