BEGIN:VCALENDAR
VERSION:2.0
PRODID:-//ChamberMaster//Event Calendar 2.0//EN
METHOD:PUBLISH
X-PUBLISHED-TTL:P3D
REFRESH-INTERVAL:P3D
CALSCALE:GREGORIAN
BEGIN:VEVENT
DTSTART:20260220T000000Z
DTEND:20260220T020000Z
X-MICROSOFT-CDO-ALLDAYEVENT:FALSE
SUMMARY:Puzzle Competition Night at Tattersal
DESCRIPTION:All puzzlers welcome! Grab a team of 1 4 and compete in our Barrel Room puzzle competition. Reservations required. Each team will tackle a 500-piece puzzle\, and the winner takes home a Tattersall gift card. Full menu available while you puzzle. Make a Reservation -  https://www.exploretock.com/tattersall-distilling-river-falls/event/589900/puzzle-competition-night-at-tattersall
X-ALT-DESC;FMTTYPE=text/html:<span style="color:rgb(8\, 8\, 9)\; font-family:segoe ui historic\,segoe ui\,helvetica\,arial\,sans-serif\; font-size:15px">All puzzlers welcome! Grab a team of 1&ndash\;4 and compete in our Barrel Room puzzle competition. Reservations required. Each team will tackle a 500-piece puzzle\, and the winner takes home a Tattersall gift card. Full menu available while you puzzle. Make a Reservation -&nbsp\;&nbsp\;</span>https://www.exploretock.com/tattersall-distilling-river-falls/event/589900/puzzle-competition-night-at-tattersall
LOCATION:Tattersall 1777 Paulson Rd River Falls\, WI 54022
UID:e.2450.38305
SEQUENCE:3
DTSTAMP:20260420T165910Z
URL:https://members.hudsonwi.org/events/details/puzzle-competition-night-at-tattersal-38305
END:VEVENT

END:VCALENDAR
