BEGIN:VCALENDAR
VERSION:2.0
PRODID:-//ChamberMaster//Event Calendar 2.0//EN
METHOD:PUBLISH
X-PUBLISHED-TTL:P3D
REFRESH-INTERVAL:P3D
CALSCALE:GREGORIAN
BEGIN:VEVENT
DTSTART:20260215T190000Z
DTEND:20260215T210000Z
X-MICROSOFT-CDO-ALLDAYEVENT:FALSE
SUMMARY:Puppy Love book signing with author Gary Porter
DESCRIPTION:We are so excited to celebrate one of our favorite things here at Chapter2 Books\, PUPPY LOVE! On Sunday\, February 15\, from 1:00-3:00\, we will be welcoming author Gary Porter and his writing muse\, Moxie\, to the store as they celebrate Gary's fourth book\, Little Rex. We'll have a myriad of fun canine-themed activities\, books\, and doggie trifles from our vendors at BackRoom Vintage\, and a special visit with local canine entrepreneur Colleen Van Deurzen of Echo's Treats. There will be something for the whole family to enjoy. We hope you'll join us for this fun event. \n\nSchedule of activities: \n\n1:00-3:00 Author visit and book signing\, doggie market and gift-making activity in children's area\n\n1:15 Storytime and book discussion with Gary (Q & A) to follow\n\n2:00 Doggie training demo with Shelly\, Chapter2's very own certified dog-trainer\n\n2:15 Visits with Moxie
X-ALT-DESC;FMTTYPE=text/html:<p style="text-align:start">We are so excited to celebrate one of our favorite things here at Chapter2 Books\, PUPPY LOVE! On Sunday\, February 15\, from 1:00-3:00\, we will be welcoming&nbsp\;<a href="https://chapter2books.indielite.org/event/2026-02-15/gary-porter" style="box-sizing: border-box\; color: rgb(74\, 125\, 124)\; text-decoration: underline\;">author Gary Porter</a>&nbsp\;and his writing muse\, Moxie\, to the store as they celebrate Gary&#39\;s fourth book\,&nbsp\;<em>Little Rex</em>. We&#39\;ll have a myriad of fun canine-themed activities\, books\, and doggie trifles from our vendors at BackRoom Vintage\, and a special visit with local canine entrepreneur Colleen Van Deurzen of <a href="https://www.echostreats.com/?srsltid=AfmBOor5poHdPEapwmxwsHEnWbZeDi2lEDrMcxeDo1MeGv0utf9j7IRB">Echo&#39\;s Treats</a>. There will be something for the whole family to enjoy. We hope you&#39\;ll join us for this fun event.&nbsp\;</p>\n\n<p style="text-align:start">Schedule of activities:&nbsp\;</p>\n\n<p style="text-align:start">1:00-3:00 Author visit and book signing\, doggie market and gift-making activity in children&#39\;s area</p>\n\n<p style="text-align:start">1:15 Storytime and book discussion with Gary (Q &amp\; A) to follow</p>\n\n<p style="text-align:start">2:00 Doggie training demo with Shelly\, Chapter2&#39\;s very own certified dog-trainer</p>\n\n<p style="text-align:start">2:15 Visits with Moxie</p>\n
LOCATION:Chapter2 Books 226 Locust Street Hudson\, WI 54016
UID:e.2450.38316
SEQUENCE:3
DTSTAMP:20260420T151240Z
URL:https://members.hudsonwi.org/events/details/puppy-love-book-signing-with-author-gary-porter-38316
END:VEVENT

END:VCALENDAR
