BEGIN:VCALENDAR
VERSION:2.0
PRODID:-//ChamberMaster//Event Calendar 2.0//EN
METHOD:PUBLISH
X-PUBLISHED-TTL:P3D
REFRESH-INTERVAL:P3D
CALSCALE:GREGORIAN
BEGIN:VEVENT
DTSTART:20260207T130000Z
DTEND:20260207T180000Z
X-MICROSOFT-CDO-ALLDAYEVENT:FALSE
SUMMARY:PANCAKE BREAKFAST at the MASONIC LODGE
DESCRIPTION:Stop by the Masonic Lodge for the annual Hot Air Affair Pancake Breakfast. Sponsored by Masonic Lodge #56. Breakfast includes pancakes\, sausage\, scrambled eggs\, biscuits and gravy\, fruit\, beverages. $12 adults\, $6 children under 12. \n\nTakeout available and credit cards accepted.
X-ALT-DESC;FMTTYPE=text/html:<p><span style="font-size:16px"><span style="color:rgb(0\, 0\, 0)\; font-family:inherit">Stop by the Masonic Lodge</span>&nbsp\;for the annual Hot Air Affair Pancake Breakfast. Sponsored by&nbsp\;<a href="https://www.facebook.com/St-Croix-Lodge-56-624209454262990/" rel="noopener" style="border: 0px\; font-family: inherit\; font-style: inherit\; font-weight: inherit\; margin: 0px\; outline: 0px\; padding: 0px\; vertical-align: baseline\; color: rgb(236\, 0\, 140)\; transition: all 0.2s ease 0s\;" target="_blank">Masonic Lodge #56</a>. Breakfast includes pancakes\, sausage\, scrambled eggs\, biscuits and gravy\, fruit\, beverages. $12 adults\, $6 children under 12.&nbsp\;<br />\n<em>Takeout available and credit cards accepted.</em></span></p>\n
LOCATION:Masonic Lodge at 209 Locust Street\, Hudson\, WI
UID:e.2450.38269
SEQUENCE:3
DTSTAMP:20260420T151215Z
URL:https://members.hudsonwi.org/events/details/pancake-breakfast-at-the-masonic-lodge-02-07-2026-38269
END:VEVENT

END:VCALENDAR
