BEGIN:VCALENDAR
VERSION:2.0
PRODID:-//ChamberMaster//Event Calendar 2.0//EN
METHOD:PUBLISH
X-PUBLISHED-TTL:P3D
REFRESH-INTERVAL:P3D
CALSCALE:GREGORIAN
BEGIN:VEVENT
DTSTART:20260226T140000Z
DTEND:20260226T153000Z
X-MICROSOFT-CDO-ALLDAYEVENT:FALSE
SUMMARY:Non-Profit Roundtable - 2/26/26
DESCRIPTION:Join the conversation as we make plans for 2026!\n\n	Tour The Sharing Tree\n	Welcome and Introductions - Update from your organization\n	What do you need help with in 2026?\n	Upcoming events discussion
X-ALT-DESC;FMTTYPE=text/html:Join the conversation as we make plans for 2026!\n<ul>\n	<li>Tour The Sharing Tree</li>\n	<li>Welcome and Introductions - Update from your organization</li>\n	<li>What do you need help with in 2026?</li>\n	<li>Upcoming events discussion</li>\n</ul>\n
LOCATION:WESTconsin Credit Union 1601 Maxwell Dr.\, Hudson
UID:e.2450.38297
SEQUENCE:3
DTSTAMP:20260420T151049Z
URL:https://members.hudsonwi.org/events/details/non-profit-roundtable-2-26-26-38297
END:VEVENT

END:VCALENDAR
