BEGIN:VCALENDAR
VERSION:2.0
PRODID:-//ChamberMaster//Event Calendar 2.0//EN
METHOD:PUBLISH
X-PUBLISHED-TTL:P3D
REFRESH-INTERVAL:P3D
CALSCALE:GREGORIAN
BEGIN:VEVENT
DTSTART;VALUE=DATE:20190720
DTEND;VALUE=DATE:20190721
TRANSP:TRANSPARENT
X-MICROSOFT-CDO-ALLDAYEVENT:TRUE
SUMMARY:Native American Celebration - CONCERTS IN THE PARK 2019
DESCRIPTION:A St. Croix Riverfest Celebration!\n\n\n\nThe City of Hudson proudly presents the 2019 CONCERTS IN THE PARK series.  Please see the attached schedule for the concert series.  \n\n\n\nThe City of Hudson reserves the right to make program changes without notice to the public. Concerts that are canceled due to inclement weather will be rescheduled if possible. Concessions and restrooms are available at the Bath House.\n\n \n\nPersons with questions regarding the Concerts in the Park can call the Hudson Parks Department at (715) 386-4774\, ext. 113\n\nor visit the City of Hudson WI website at www.ci.hudson.wi.us\n\n \n\nPLEASE "NO PETS" & "NO SMOKING" IN THE SEATING AREA\n\n\n\n2019 CONCERTS IN THE PARK
X-ALT-DESC;FMTTYPE=text/html:<span style="font-family: verdana\;"><span style="font-size: 12px\;"><span style="background-image: initial\; background-attachment: initial\; background-size: initial\; background-origin: initial\; background-clip: initial\; background-position: initial\; background-repeat: initial\;">A St. Croix Riverfest Celebration!<br />\n<br />\nThe City of Hudson proudly presents the 2019 CONCERTS IN THE PARK series. &nbsp\;Please see the attached schedule for the concert series. &nbsp\;</span></span></span><br />\n<br />\n<span style="font-family: verdana\;"><span style="font-size: 12px\;">The City of Hudson reserves the right to make program changes without notice to the public. Concerts that are canceled due to inclement weather will be rescheduled if possible. Concessions and restrooms are available at the Bath House.<br />\n&nbsp\;<br />\nPersons with questions regarding the Concerts in the Park can call the Hudson Parks Department at (715) 386-4774\,&nbsp\;ext. 113<br />\nor visit the City of Hudson WI website at&nbsp\;<a href="http://www.ci.hudson.wi.us/DocumentCenter/View/3071">www.ci.hudson.wi.us</a><br />\n&nbsp\;<br />\nPLEASE &ldquo\;NO PETS&rdquo\; &amp\; &ldquo\;NO SMOKING&rdquo\; IN THE SEATING AREA<br />\n<br />\n<a href="http://www.ci.hudson.wi.us/DocumentCenter/View/3071">2019 CONCERTS IN THE PARK</a></span></span>
LOCATION:Lakefront Park 505 First Street Hudson\, WI 54016
UID:e.2450.14294
SEQUENCE:3
DTSTAMP:20260425T102336Z
URL:https://members.hudsonwi.org/events/details/native-american-celebration-concerts-in-the-park-2019-14294
END:VEVENT

END:VCALENDAR
