BEGIN:VCALENDAR
VERSION:2.0
PRODID:-//ChamberMaster//Event Calendar 2.0//EN
METHOD:PUBLISH
X-PUBLISHED-TTL:P3D
REFRESH-INTERVAL:P3D
CALSCALE:GREGORIAN
BEGIN:VEVENT
DTSTART:20240512T193000Z
DTEND:20240512T213000Z
X-MICROSOFT-CDO-ALLDAYEVENT:FALSE
SUMMARY:Mother's Day Brunch Cruise
DESCRIPTION:Take Mom and the family out for a relaxing Sunday Champagne Brunch Cruise on the Scenic St. Croix River.\n\nEnjoy a complimentary glass of Champagne as you board.  Enjoy a full delicious Brunch Buffet while cruising and making memories.\n\n\n\nCruise from 2:30pm - 4:30pm
X-ALT-DESC;FMTTYPE=text/html:<span style="font-size:12px">Take Mom and the family out for a relaxing <strong>Sunday Champagne Brunch </strong>Cruise on the Scenic St. Croix River.<br />\nEnjoy a complimentary glass of Champagne as you board.&nbsp\; Enjoy a full delicious Brunch Buffet while cruising and making memories.<br />\n<br />\nCruise from 2:30pm - 4:30pm</span>
LOCATION:98 Walnut Street Hudson\, WI 54016
UID:e.2450.14783
SEQUENCE:3
DTSTAMP:20260425T203826Z
URL:https://members.hudsonwi.org/events/details/mother-s-day-brunch-cruise-12-02-2019-14783
END:VEVENT

END:VCALENDAR
