BEGIN:VCALENDAR
VERSION:2.0
PRODID:-//ChamberMaster//Event Calendar 2.0//EN
METHOD:PUBLISH
X-PUBLISHED-TTL:P3D
REFRESH-INTERVAL:P3D
CALSCALE:GREGORIAN
BEGIN:VEVENT
DTSTART:20240527T170000Z
DTEND:20240527T230000Z
X-MICROSOFT-CDO-ALLDAYEVENT:FALSE
SUMMARY:Memorial Day Music in the Park
DESCRIPTION:FIT Real Estate would love to invite you to the 3rd Annual Memorial Day Music in the Park in downtown Hudson!  This May 27th\, there will be live music including Josh Lassi\, Hailey James\, Chris Kroeze\, and Sailor Jerri. It is not only family-friendly but FREE to the public!  There will be kids games\, food trucks\, and more!  This event is hosted and organized by FIT Real Estate in an effort to raise money for the VFW Post 2115 in Hudson.\n\n\n\nCoordinated by FitRE Group and Workhorse Land Development
X-ALT-DESC;FMTTYPE=text/html:FIT Real Estate would love to invite you to the 3rd Annual Memorial Day Music in the Park in downtown Hudson!&nbsp\; This May 27th\, there will be live music including Josh Lassi\, Hailey James\, Chris Kroeze\, and Sailor Jerri. It is not only family-friendly but FREE to the public!&nbsp\; There will be kids games\, food trucks\, and more!&nbsp\; This event is hosted and organized by FIT Real Estate in an effort to raise money for the VFW Post 2115 in Hudson.<br />\n<br />\nCoordinated by FitRE Group and Workhorse Land Development
LOCATION:FREE EVENT in the Bandshell Lakefront Park\, Hudson
UID:e.2450.30337
SEQUENCE:3
DTSTAMP:20260425T223323Z
URL:https://members.hudsonwi.org/events/details/memorial-day-music-in-the-park-30337
END:VEVENT

END:VCALENDAR
