BEGIN:VCALENDAR
VERSION:2.0
PRODID:-//ChamberMaster//Event Calendar 2.0//EN
METHOD:PUBLISH
X-PUBLISHED-TTL:P3D
REFRESH-INTERVAL:P3D
CALSCALE:GREGORIAN
BEGIN:VEVENT
DTSTART:20190918T163000Z
DTEND:20190918T180000Z
X-MICROSOFT-CDO-ALLDAYEVENT:FALSE
SUMMARY:Manufacturer's Roundtable
DESCRIPTION:Manufacturer's Roundtable\n\n\n\nPlease join us for a tour of Cardinal Health followed by a working lunch to include\, introductions and updates\, and a discussion on Lean Six Sigma   Hoshin/Long Term Goal Setting.\n\n \n\nOctober is Manufacturers Month   hear some plans on how we will promote .\n\n\n\n\n\nThe fee for lunch is $12/person. \n\n \n\nRegister online\, call the Chamber office at 715-386-8411\, or email maryclaire@hudsonwi.org  \n\nby Monday\, September 16th with your RSVP. \n\n\n\n\n\nManufacturer's Roundtable Mission: To provide the opportunity to improve the business conditions of companies who design\, manufacture\, assemble\, warehouse or distribute goods and products in the greater Hudson area.
X-ALT-DESC;FMTTYPE=text/html:Manufacturer&#39\;s Roundtable<br />\n<br />\nPlease join us for a tour of Cardinal Health followed by a working lunch to include\, introductions and updates\, and a discussion on Lean Six Sigma &ndash\; Hoshin/Long Term Goal Setting.<br />\n&nbsp\;<br />\nOctober is Manufacturers Month &ndash\;&nbsp\;hear some plans on how we will promote .<br />\n<br />\n<br />\nThe fee for lunch is $12/person.&nbsp\;<br />\n&nbsp\;<br />\nRegister online\, call&nbsp\;the Chamber office at 715-386-8411\, or email&nbsp\;<a href="mailto:maryclaire@hudsonwi.org">maryclaire@hudsonwi.org</a> &nbsp\;<br />\nby Monday\, September 16th with your RSVP.&nbsp\;<br />\n<br />\n<br />\n<em>Manufacturer&rsquo\;s Roundtable Mission:&nbsp\;To provide the opportunity to improve the business conditions of companies who design\, manufacture\, assemble\, warehouse or distribute goods and products in the greater Hudson area.</em>
LOCATION:Cardinal Health 2901 Enloe Street Hudson\, WI 540I6
UID:e.2450.14514
SEQUENCE:3
DTSTAMP:20260423T194510Z
URL:https://members.hudsonwi.org/events/details/manufacturer-s-roundtable-14514
END:VEVENT

END:VCALENDAR
