BEGIN:VCALENDAR
VERSION:2.0
PRODID:-//ChamberMaster//Event Calendar 2.0//EN
METHOD:PUBLISH
X-PUBLISHED-TTL:P3D
REFRESH-INTERVAL:P3D
CALSCALE:GREGORIAN
BEGIN:VEVENT
DTSTART:20260301T190000Z
DTEND:20260301T210000Z
X-MICROSOFT-CDO-ALLDAYEVENT:FALSE
SUMMARY:Local Author Spotlight
DESCRIPTION:Celebrate the literary work of writers who live and work right here in the beautiful St. Croix river valley!\n\n\n\nJoin us at Chapter2 Books Sunday afternoons from 1:00-3:00 for our Local Author Spotlight! These casual afternoons are a great way to connect with new and established authors working right in our communities. We welcome them to share their work\, talk about their creative process\, and get to know YOU. \n\nAnd of course\, it's a great way for you to show up for your local literary creatives\, get your hands on signed copies\, and support your favorite locally owned independent bookstore\, too!\n\n\n\nFebruary Local Author Visits\n\nGary Porter - Little Rex book signing\n\nJohn-Ivan Palmer - Hypnotic Control \n\n\n\nMarch Local Author Visits\n\nJoe Egan - Steer Clear\n\nT. J. Fier - The Shadow of Tower Hill \n\nZachariah Jones - Chasing Shadows: Genesis\n\nJack Henderson - The Forest Primeval\n\nJessica Graham - The Love Inside STORYTIME
X-ALT-DESC;FMTTYPE=text/html:<h2 style="font-style:normal\; text-align:start">Celebrate the literary work of writers who live and work right here in the beautiful St. Croix river valley!</h2>\n\n<div style="text-align:start">\n<div>\n<p>Join us at Chapter2 Books Sunday afternoons from 1:00-3:00 for our Local Author Spotlight! These casual afternoons are a great way to connect with new and established authors working right in our communities. We welcome them to share their work\, talk about their creative process\, and get to know YOU.&nbsp\;</p>\n\n<p>And of course\, it&#39\;s a great way for you to show up for your local literary creatives\, get your hands on signed copies\, and support your favorite locally owned independent bookstore\, too!<br />\n<br />\nFebruary Local Author Visits<br />\n<a href="https://chapter2books.indielite.org/event/2026-02-15/gary-porter">Gary Porter - Little Rex book signing</a><br />\n<a href="https://chapter2books.indielite.org/event/2026-02-22/john-ivan-palmer-local-author-spotlight">John-Ivan Palmer - Hypnotic Control&nbsp\;</a><br />\n<br />\nMarch Local Author Visits<br />\n<a href="https://chapter2books.indielite.org/event/2026-03-01/joe-egan-local-author-spotlight">Joe Egan - Steer Clear</a><br />\n<a href="https://chapter2books.indielite.org/event/2026-03-08/t-j-fier-local-author-spotlight">T. J. Fier - The Shadow of Tower Hill&nbsp\;</a><br />\n<a href="https://chapter2books.indielite.org/event/2026-03-15/zachariah-jones-local-author-spotlight">Zachariah Jones - Chasing Shadows: Genesis</a><br />\n<a href="https://chapter2books.indielite.org/event/2026-03-22/jack-henderson-local-author-spotlight">Jack Henderson - The Forest Primeval</a><br />\n<a href="https://chapter2books.indielite.org/event/2026-03-29/jessica-graham-local-author-spotlight-and-storytime">Jessica Graham - The Love Inside STORYTIME</a><br />\n&nbsp\;</p>\n</div>\n</div>\n
LOCATION:Chapter2 Books 226 Locust St. Hudson\, WI 54016
UID:e.2450.38328
SEQUENCE:3
DTSTAMP:20260420T132139Z
URL:https://members.hudsonwi.org/events/details/local-author-spotlight-03-01-2026-38328
END:VEVENT

END:VCALENDAR
