BEGIN:VCALENDAR
VERSION:2.0
PRODID:-//ChamberMaster//Event Calendar 2.0//EN
METHOD:PUBLISH
X-PUBLISHED-TTL:P3D
REFRESH-INTERVAL:P3D
CALSCALE:GREGORIAN
BEGIN:VEVENT
DTSTART:20260213T000000Z
DTEND:20260213T020000Z
X-MICROSOFT-CDO-ALLDAYEVENT:FALSE
SUMMARY:Live Music at Tattersall Barrel Room
DESCRIPTION:Live Music Nights in the barrel room featuring Nick Hensley (love songs for angry men).\n\nJoin us for an intimate show in the Barrel Room. Sip cocktails and tasty bites while you enjoy local live music. Full menu available plus\, Valentines Day Features.
X-ALT-DESC;FMTTYPE=text/html:<span style="color:rgb(8\, 8\, 9)\; font-family:segoe ui historic\,segoe ui\,helvetica\,arial\,sans-serif\; font-size:15px">Live Music Nights in the barrel room featuring Nick Hensley (love songs for angry men).</span><br />\n<span style="color:rgb(8\, 8\, 9)\; font-family:segoe ui historic\,segoe ui\,helvetica\,arial\,sans-serif\; font-size:15px">Join us for an intimate show in the Barrel Room. Sip cocktails and tasty bites while you enjoy local live music. Full menu available plus\, Valentines Day Features.</span>
LOCATION:Tattersall 1777 Paulson Rd River Falls\, WI 54022
UID:e.2450.38299
SEQUENCE:3
DTSTAMP:20260420T170136Z
URL:https://members.hudsonwi.org/events/details/live-music-at-tattersall-barrel-room-38299
END:VEVENT

END:VCALENDAR
