BEGIN:VCALENDAR
VERSION:2.0
PRODID:-//ChamberMaster//Event Calendar 2.0//EN
METHOD:PUBLISH
X-PUBLISHED-TTL:P3D
REFRESH-INTERVAL:P3D
CALSCALE:GREGORIAN
BEGIN:VEVENT
DTSTART:20251129T230000Z
DTEND:20251130T020000Z
X-MICROSOFT-CDO-ALLDAYEVENT:FALSE
SUMMARY:Live Music at Belle Ame
DESCRIPTION:Live music at the vineyard!
X-ALT-DESC;FMTTYPE=text/html:Live music at the vineyard!
LOCATION:Belle Ame Vineyard River Falls\, WI
UID:e.2450.36838
SEQUENCE:3
DTSTAMP:20260420T204037Z
URL:https://members.hudsonwi.org/events/details/live-music-at-belle-ame-11-29-2025-36838
END:VEVENT

END:VCALENDAR
