BEGIN:VCALENDAR
VERSION:2.0
PRODID:-//ChamberMaster//Event Calendar 2.0//EN
METHOD:PUBLISH
X-PUBLISHED-TTL:P3D
REFRESH-INTERVAL:P3D
CALSCALE:GREGORIAN
BEGIN:VEVENT
DTSTART:20251113T230000Z
DTEND:20251114T020000Z
X-MICROSOFT-CDO-ALLDAYEVENT:FALSE
SUMMARY:Live Music at Belle Ame
DESCRIPTION:Join us November 13\, 20 & 29th from 5-8pm for live music\, featuring incredible local artists including\, Hailey James\, Sten Carlson & John Swardson!
X-ALT-DESC;FMTTYPE=text/html:Join us November 13\, 20 &amp\; 29th from 5-8pm for live music\, featuring incredible local artists including\, Hailey James\, Sten Carlson &amp\; John Swardson!&nbsp\;
LOCATION:Belle Ame Vineyard River Falls\, WI
UID:e.2450.36834
SEQUENCE:3
DTSTAMP:20260420T221234Z
URL:https://members.hudsonwi.org/events/details/live-music-at-belle-ame-11-13-2025-36834
END:VEVENT

END:VCALENDAR
