BEGIN:VCALENDAR
VERSION:2.0
PRODID:-//ChamberMaster//Event Calendar 2.0//EN
METHOD:PUBLISH
X-PUBLISHED-TTL:P3D
REFRESH-INTERVAL:P3D
CALSCALE:GREGORIAN
BEGIN:VEVENT
DTSTART:20260221T180000Z
DTEND:20260221T210000Z
X-MICROSOFT-CDO-ALLDAYEVENT:FALSE
SUMMARY:Live Music at Belle Ame
DESCRIPTION:Live Music
X-ALT-DESC;FMTTYPE=text/html:Live Music
LOCATION:W10829 875th Avenue\, River Falls\, WI
UID:e.2450.38288
SEQUENCE:3
DTSTAMP:20260420T151241Z
URL:https://members.hudsonwi.org/events/details/live-music-at-belle-ame-02-21-2026-38288
END:VEVENT

END:VCALENDAR
