BEGIN:VCALENDAR
VERSION:2.0
PRODID:-//ChamberMaster//Event Calendar 2.0//EN
METHOD:PUBLISH
X-PUBLISHED-TTL:P3D
REFRESH-INTERVAL:P3D
CALSCALE:GREGORIAN
BEGIN:VEVENT
DTSTART:20181123T230000Z
DTEND:20181124T014500Z
X-MICROSOFT-CDO-ALLDAYEVENT:FALSE
SUMMARY:Light Up Night
DESCRIPTION:Come kick off the Holiday Season with Santa and the Hudson businesses as we light up the night!  With a wave of his hand\, Santa turns the dark of night into the festive glow of the holiday lights. \n\n\n\nSanta arrives with Elves in town\, music in the air\, candy canes and much more.  Businesses will have children's activities\, face painting\, crafts\, treats and holiday sales.  A sparkling evening in Downtown Hudson for kids of all ages.\n\n\n\nCelebrate the Holidays is made possible by the Hudson Area Home and Garden Club and the City of Hudson and the generous donations of area businesses and organizations.\n\n\n\nCELEBRATE THE HOLIDAYS IN HUDSON\n\nLIGHT UP NIGHT ACTIVITIES\n\nFriday\, Nov. 23\, 2018\n\n5pm- 7:45pm\n\n \n\nCome kick off the Holiday Season and welcome Santa to town at Hudson's annual Light Up Night. Santa\n\nClaus arrives in town aboard the Hudson Fire Department's vintage 1935 engine and with the wave of his\n\nhand he'll officially turn on the downtown holiday lights giving the town a festive glow. Santa will then talk\n\nwith every child who wants his ear this special time of year.\n\n \n\nSanta will arrive in town between Walnut St. and Locust St. at 7:00pm.\n\n \n\nPrior to Santa's arrival\, from 5:00pm - 6:45pm\, children can enjoy free activities along with complimentary\n\nhot chocolate and candy canes in the hallway of the 512 2nd Street building. This year kids will be\n\nmaking ornaments\, preparing magic reindeer food\, face painting\, & more. Kids can also meet the\n\nHudson Ambassadors and Pepper Fest Royalty.\n\n \n\nShare your Light Up Night fun on facebook & Instagram #CelebrateHudsonWI\n\n \n\nLIGHT UP NIGHT SPECIAL OFFERS\n\nIn addition to being some of the sponsors of Celebrate the Holidays in Hudson\n\nthe following businesses will have special offers for you during Light Up Night!\n\n \n\nAngel's Pet World   Receive an 11% mail-in REBATE on ALL purchases!\n\nBricks Neapolitan Pizza   Buy a $50 gift card GET a $10 Gift Card. Buy $100 GET $20.\n\nGrand F te   Buy 3 GET 1 FREE Extra Virgin Olive Oil & Balsamic Vinegar. Purchase 3 of any\n\nsize and receive the 4th bottle of equal or lesser value FREE. 10 yr balsamic not included.\n\n  Gurgle Pot Sale! All large Gurgle Pots $35.95 reg. $42\n\nMarnie's   FREE TREATS when you come in and shop at our NEWLY EXPANDED store.\n\nPier 500   Buy $100 in gift cards GET a $50 Gift Card Free\n\nSeasons on St. Croix Gallery   Enjoy hot chocolate and treats.\n\n  Put your name in our drawing for the chance to WIN a $50 Gift Certificate\n\n  Take 20% OFF all Motawi Tiles and Stands\n\nThe Purple Tree   Cookies and Hot Apple Cider\n\n  With a purchase of $50 or more\, receive a FREE winter soy candle.\n\n  With a purchase of $100 or more\, receive a FREE re-usable tote.\n\nThe Wired Robin   FREE Brewed Coffee All Day with Purchase\n\n  Buy $25 Gift Certificate\, GET $5 Gift Certificate\n\n \n\nCELEBRATE THE HOLIDAYS IN HUDSON SPONSORS\n\nPlatinum \n\nState Farm Francescato Agency\n\n \n\nGold \n\nAngel's Pet World\, City of Hudson\, Family Fresh Market\, Gagnon\, Inc.\,\n\nHudson Area Chamber of Commerce & Tourism Bureau\, Hudson Star-Observer\, The Old Coin Shop\,\n\nSpeer Bast Real Estate Group - Adam Bast & Robert Speer\, Valley Orthodontics\, WESTconsin Credit Union\n\nSilver Art Doyle's Spokes & Pedals\, Associated Bank\, Bricks Neapolitan Pizza\,\n\nCrestview Family Dental\, Croixview Family Chiropractic LLC\, First State Bank & Trust\, Grace + Grit\,\n\nHeywood\, Cari & Anderson\, S.C.\, Hudson Ford & Quick Lane\, Season on St. Croix Gallery\,\n\nSpring Creek Dental\, St. Croix Kidds Pediatric Dentistry\, The 715\, Urban Olive & Vine\, Viking Electronics\,\n\nWillow River Company\, Xcel Energy\n\n \n\nBronze \n\nAbigail Page Antiques\, Barker's Bar & Grill\, Chapter 2 Books\, CocoBello Interiors\,\n\nClub 304/Pudge's Saloon & Eatery\, County Market\, Et cetera\, Grand F te\, Guinn\, Vinopal & Zahradka\, LLP\,\n\nHudson Flower Shop\, Hudson Hot Air Affair\, Kelly Gallery Art & Frame\, Knoke's Chocolates & Nuts\,\n\nLa Rue March \, Lakefront Framing LLC\, Marnie Marie Photography\, Micklesen Drug Inc\,\n\nMudge\,Porter\, Lundeen & Seguin\, S.C.\, The Nova\, Pedro's del Este\, Pier 500\, San Pedro Caf \n\nThe Phipps Center for the Arts\, The Postmark Grille\, The Purple Tree\, The Wired Robin
X-ALT-DESC;FMTTYPE=text/html:Come kick off the Holiday Season with Santa and the Hudson businesses as we light up the night!&nbsp\;&nbsp\;<span background-color:="" font-size:="" style="color: rgb(51\, 51\, 51)\; font-family: sans-serif\, Arial\, Verdana\, " trebuchet="">With a wave of his hand\, Santa turns the dark of night into the festive glow of the holiday lights.&nbsp\;</span><br />\n<br />\nSanta arrives with Elves in town\, music in the air\, candy canes and much more.&nbsp\; Businesses will have children&#39\;s activities\, face painting\, crafts\, treats and holiday sales.&nbsp\;&nbsp\;<span background-color:="" font-size:="" style="color: rgb(51\, 51\, 51)\; font-family: sans-serif\, Arial\, Verdana\, " trebuchet="">A sparkling evening in Downtown Hudson for kids of all ages.</span><br />\n<br />\nCelebrate the Holidays is made possible by the Hudson Area Home and Garden Club and the City of Hudson and the generous donations of area businesses and organizations.<br />\n<br />\n<span style="font-family:helveticaneue\,sans-serif\;"><span style="font-size:13.0pt\;">CELEBRATE THE HOLIDAYS IN HUDSON</span></span><br />\n<strong><span style="font-family:helveticaneue-bold\,sans-serif\;"><span style="font-size:13.0pt\;">LIGHT UP NIGHT ACTIVITIES</span></span></strong><br />\n<span style="font-family:helveticaneue\,sans-serif\;"><span style="font-size:13.0pt\;">Friday\, Nov. 23\, 2018</span></span><br />\n<span style="font-family:helveticaneue\,sans-serif\;"><span style="font-size:13.0pt\;">5pm- 7:45pm</span></span><br />\n&nbsp\;<br />\n<span style="font-family:helveticaneue\,sans-serif\;">Come kick off the Holiday Season and welcome Santa to town at Hudson&rsquo\;s annual Light Up Night. Santa</span><br />\n<span style="font-family:helveticaneue\,sans-serif\;">Claus arrives in town aboard the Hudson Fire Department&rsquo\;s vintage 1935 engine and with the wave of his</span><br />\n<span style="font-family:helveticaneue\,sans-serif\;">hand he&rsquo\;ll officially turn on the downtown holiday lights giving the town a festive glow. Santa will then talk</span><br />\n<span style="font-family:helveticaneue\,sans-serif\;">with every child who wants his ear this special time of year.</span><br />\n&nbsp\;<br />\n<span style="font-family:helveticaneue\,sans-serif\;">Santa will arrive in town </span><strong><span style="font-family:helveticaneue-bold\,sans-serif\;">between Walnut St. </span></strong><span style="font-family:helveticaneue\,sans-serif\;">and </span><strong><span style="font-family:helveticaneue-bold\,sans-serif\;">Locust St. </span></strong><span style="font-family:helveticaneue\,sans-serif\;">at </span><strong><span style="font-family:helveticaneue-bold\,sans-serif\;">7:00pm</span></strong><span style="font-family:helveticaneue\,sans-serif\;">.</span><br />\n&nbsp\;<br />\n<span style="font-family:helveticaneue\,sans-serif\;">Prior to Santa&rsquo\;s arrival\, from </span><strong><span style="font-family:helveticaneue-bold\,sans-serif\;">5:00pm - 6:45pm\, </span></strong><span style="font-family:helveticaneue\,sans-serif\;">children can enjoy free activities along with complimentary</span><br />\n<span style="font-family:helveticaneue\,sans-serif\;">hot chocolate and candy canes in the </span><strong><span style="font-family:helveticaneue-bold\,sans-serif\;">hallway of the 512 2nd Street building. </span></strong><span style="font-family:helveticaneue\,sans-serif\;">This year kids will be</span><br />\n<span style="font-family:helveticaneue\,sans-serif\;">making ornaments\, preparing magic reindeer food\, face painting\, &amp\; more. Kids can also meet the</span><br />\n<span style="font-family:helveticaneue\,sans-serif\;">Hudson Ambassadors and Pepper Fest Royalty.</span><br />\n&nbsp\;<br />\n<span style="font-family:helveticaneue\,sans-serif\;">Share your Light Up Night fun on facebook &amp\; Instagram </span><strong><span style="font-family:helveticaneue-bold\,sans-serif\;">#CelebrateHudsonWI</span></strong><br />\n&nbsp\;<br />\n<strong><span style="font-family:helveticaneue-bold\,sans-serif\;">LIGHT UP NIGHT SPECIAL OFFERS</span></strong><br />\n<span style="font-family:helveticaneue\,sans-serif\;"><span style="font-size:11.0pt\;">In addition to being some of the sponsors of Celebrate the Holidays in Hudson</span></span><br />\n<span style="font-family:helveticaneue\,sans-serif\;"><span style="font-size:11.0pt\;">the following businesses will have special offers for you during Light Up Night!</span></span><br />\n&nbsp\;<br />\n<strong><span style="font-family:helvetica-bold\,sans-serif\;"><span style="font-size:11.0pt\;">Angel&rsquo\;s Pet World </span></span></strong><span style="font-family:ms gothic\;"><span style="font-size:11.0pt\;">&#9656\;</span></span> <span style="font-family:helvetica\,sans-serif\;"><span style="font-size:11.0pt\;">Receive an </span></span><span style="font-family:helvetica\,sans-serif\;">11% </span><span style="font-family:helvetica\,sans-serif\;"><span style="font-size:11.0pt\;">mail-in </span></span><span style="font-family:helvetica\,sans-serif\;">REBATE </span><span style="font-family:helvetica\,sans-serif\;"><span style="font-size:11.0pt\;">on ALL purchases!</span></span><br />\n<strong><span style="font-family:helvetica-bold\,sans-serif\;"><span style="font-size:11.0pt\;">Bricks Neapolitan Pizza </span></span></strong><span style="font-family:ms gothic\;"><span style="font-size:11.0pt\;">&#9656\;</span></span> <span style="font-family:helvetica\,sans-serif\;"><span style="font-size:11.0pt\;">Buy a $50 gift card </span></span><span style="font-family:helvetica\,sans-serif\;">GET a $10 Gift Card. </span><span style="font-family:helvetica\,sans-serif\;"><span style="font-size:11.0pt\;">Buy $100 GET $20.</span></span><br />\n<strong><span style="font-family:helveticaneue-bold\,sans-serif\;"><span style="font-size:11.0pt\;">Grand F&ecirc\;te </span></span></strong><span style="font-family:ms gothic\;"><span style="font-size:11.0pt\;">&#9656\;</span></span> <span style="font-family:helveticaneue\,sans-serif\;"><span style="font-size:11.0pt\;">Buy 3 </span></span><span style="font-family:helveticaneue\,sans-serif\;">GET 1 FREE </span><span style="font-family:helveticaneue\,sans-serif\;"><span style="font-size:11.0pt\;">Extra Virgin Olive Oil &amp\; Balsamic Vinegar. Purchase 3 of any</span></span><br />\n<span style="font-family:helveticaneue\,sans-serif\;"><span style="font-size:11.0pt\;">size and receive the 4th bottle of equal or lesser value FREE. 10 yr balsamic not included.</span></span><br />\n<span style="font-family:ms gothic\;"><span style="font-size:11.0pt\;">&#9656\;</span></span> <span style="font-family:helveticaneue\,sans-serif\;">Gurgle Pot Sale! </span><span style="font-family:helveticaneue\,sans-serif\;"><span style="font-size:11.0pt\;">All large Gurgle Pots $35.95 reg. $42</span></span><br />\n<strong><span style="font-family:helveticaneue-bold\,sans-serif\;"><span style="font-size:11.0pt\;">Marnie&rsquo\;s </span></span></strong><span style="font-family:ms gothic\;"><span style="font-size:11.0pt\;">&#9656\;</span></span> <span style="font-family:helveticaneue\,sans-serif\;">FREE TREATS </span><span style="font-family:helveticaneue\,sans-serif\;"><span style="font-size:11.0pt\;">when you come in and shop at our NEWLY EXPANDED store.</span></span><br />\n<strong><span style="font-family:helveticaneue-bold\,sans-serif\;"><span style="font-size:11.0pt\;">Pier 500 </span></span></strong><span style="font-family:ms gothic\;"><span style="font-size:11.0pt\;">&#9656\;</span></span> <span style="font-family:helveticaneue\,sans-serif\;"><span style="font-size:11.0pt\;">Buy $100 in gift cards </span></span><span style="font-family:helveticaneue\,sans-serif\;">GET </span><span style="font-family:helveticaneue\,sans-serif\;"><span style="font-size:11.0pt\;">a </span></span><span style="font-family:helveticaneue\,sans-serif\;">$50 Gift Card Free</span><br />\n<strong><span style="font-family:helveticaneue-bold\,sans-serif\;"><span style="font-size:11.0pt\;">Seasons on St. Croix Gallery </span></span></strong><span style="font-family:ms gothic\;"><span style="font-size:11.0pt\;">&#9656\;</span></span> <span style="font-family:helveticaneue\,sans-serif\;"><span style="font-size:11.0pt\;">Enjoy hot chocolate and treats.</span></span><br />\n<span style="font-family:ms gothic\;"><span style="font-size:11.0pt\;">&#9656\;</span></span> <span style="font-family:helveticaneue\,sans-serif\;"><span style="font-size:11.0pt\;">Put your name in our drawing for the chance to </span></span><span style="font-family:helveticaneue\,sans-serif\;">WIN </span><span style="font-family:helveticaneue\,sans-serif\;"><span style="font-size:11.0pt\;">a </span></span><span style="font-family:helveticaneue\,sans-serif\;">$50 Gift Certificate</span><br />\n<span style="font-family:ms gothic\;"><span style="font-size:11.0pt\;">&#9656\;</span></span> <span style="font-family:helveticaneue\,sans-serif\;"><span style="font-size:11.0pt\;">Take </span></span><span style="font-family:helveticaneue\,sans-serif\;">20% OFF </span><span style="font-family:helveticaneue\,sans-serif\;"><span style="font-size:11.0pt\;">all Motawi Tiles and Stands</span></span><br />\n<strong><span style="font-family:helveticaneue-bold\,sans-serif\;"><span style="font-size:11.0pt\;">The Purple Tree </span></span></strong><span style="font-family:ms gothic\;"><span style="font-size:11.0pt\;">&#9656\;</span></span> <span style="font-family:helveticaneue\,sans-serif\;"><span style="font-size:11.0pt\;">Cookies and Hot Apple Cider</span></span><br />\n<span style="font-family:ms gothic\;"><span style="font-size:11.0pt\;">&#9656\;</span></span> <span style="font-family:helveticaneue\,sans-serif\;"><span style="font-size:11.0pt\;">With a purchase of $50 or more\, receive a </span></span><span style="font-family:helveticaneue\,sans-serif\;">FREE </span><span style="font-family:helveticaneue\,sans-serif\;"><span style="font-size:11.0pt\;">winter soy candle.</span></span><br />\n<span style="font-family:ms gothic\;"><span style="font-size:11.0pt\;">&#9656\;</span></span> <span style="font-family:helveticaneue\,sans-serif\;"><span style="font-size:11.0pt\;">With a purchase of $100 or more\, receive a </span></span><span style="font-family:helveticaneue\,sans-serif\;">FREE </span><span style="font-family:helveticaneue\,sans-serif\;"><span style="font-size:11.0pt\;">re-usable tote.</span></span><br />\n<strong><span style="font-family:helveticaneue-bold\,sans-serif\;"><span style="font-size:11.0pt\;">The Wired Robin </span></span></strong><span style="font-family:ms gothic\;"><span style="font-size:11.0pt\;">&#9656\;</span></span> <span style="font-family:helveticaneue\,sans-serif\;">FREE </span><span style="font-family:helveticaneue\,sans-serif\;"><span style="font-size:11.0pt\;">Brewed Coffee All Day with Purchase</span></span><br />\n<span style="font-family:ms gothic\;"><span style="font-size:11.0pt\;">&#9656\;</span></span> <span style="font-family:helveticaneue\,sans-serif\;"><span style="font-size:11.0pt\;">Buy $25 Gift Certificate\, </span></span><span style="font-family:helveticaneue\,sans-serif\;">GET $5 Gift Certificate</span><br />\n&nbsp\;<br />\n<strong><span style="font-family:helveticaneue-bold\,sans-serif\;">CELEBRATE THE HOLIDAYS IN HUDSON SPONSORS</span></strong><br />\n<span style="font-family:helveticaneue\,sans-serif\;"><span style="font-size:13.0pt\;">Platinum </span></span><br />\n<span style="font-family:helveticaneue\,sans-serif\;">State Farm Francescato Agency</span><br />\n&nbsp\;<br />\n<span style="font-family:helveticaneue\,sans-serif\;"><span style="font-size:13.0pt\;">Gold </span></span><br />\n<span style="font-family:helveticaneue\,sans-serif\;">Angel&rsquo\;s Pet World\, City of Hudson\, Family Fresh Market\, Gagnon\, Inc.\,</span><br />\n<span style="font-family:helveticaneue\,sans-serif\;">Hudson Area Chamber of Commerce &amp\; Tourism Bureau\, Hudson Star-Observer\, The Old Coin Shop\,</span><br />\n<span style="font-family:helveticaneue\,sans-serif\;">Speer Bast Real Estate Group - Adam Bast &amp\; Robert Speer\, Valley Orthodontics\, WESTconsin Credit Union</span><br />\n<span style="font-family:helveticaneue\,sans-serif\;"><span style="font-size:13.0pt\;">Silver </span></span><span style="font-family:helveticaneue\,sans-serif\;">Art Doyle&rsquo\;s Spokes &amp\; Pedals\, Associated Bank\, Bricks Neapolitan Pizza\,</span><br />\n<span style="font-family:helveticaneue\,sans-serif\;">Crestview Family Dental\, Croixview Family Chiropractic LLC\, First State Bank &amp\; Trust\, Grace + Grit\,</span><br />\n<span style="font-family:helveticaneue\,sans-serif\;">Heywood\, Cari &amp\; Anderson\, S.C.\, Hudson Ford &amp\; Quick Lane\, Season on St. Croix Gallery\,</span><br />\n<span style="font-family:helveticaneue\,sans-serif\;">Spring Creek Dental\, St. Croix Kidds Pediatric Dentistry\, The 715\, Urban Olive &amp\; Vine\, Viking Electronics\,</span><br />\n<span style="font-family:helveticaneue\,sans-serif\;">Willow River Company\, Xcel Energy</span><br />\n&nbsp\;<br />\n<span style="font-family:helveticaneue\,sans-serif\;"><span style="font-size:13.0pt\;">Bronze </span></span><br />\n<span style="font-family:helveticaneue\,sans-serif\;">Abigail Page Antiques\, Barker&rsquo\;s Bar &amp\; Grill\, Chapter 2 Books\, CocoBello Interiors\,</span><br />\n<span style="font-family:helveticaneue\,sans-serif\;">Club 304/Pudge&rsquo\;s Saloon &amp\; Eatery\, County Market\, Et cetera\, Grand F&ecirc\;te\, Guinn\, Vinopal &amp\; Zahradka\, LLP\,</span><br />\n<span style="font-family:helveticaneue\,sans-serif\;">Hudson Flower Shop\, Hudson Hot Air Affair\, Kelly Gallery Art &amp\; Frame\, Knoke&rsquo\;s Chocolates &amp\; Nuts\,</span><br />\n<span style="font-family:helveticaneue\,sans-serif\;">La Rue March&eacute\;\, Lakefront Framing LLC\, Marnie Marie Photography\, Micklesen Drug Inc\,</span><br />\n<span style="font-family:helveticaneue\,sans-serif\;">Mudge\,Porter\, Lundeen &amp\; Seguin\, S.C.\, The Nova\, Pedro&rsquo\;s del Este\, Pier 500\, San Pedro Caf&eacute\;</span><br />\n<span style="font-family:helveticaneue\,sans-serif\;">The Phipps Center for the Arts\, The Postmark Grille\, The Purple Tree\, The Wired Robin</span><br />\n&nbsp\;
LOCATION:2nd Street in Downtown Hudson
UID:e.2450.9200
SEQUENCE:3
DTSTAMP:20260422T103345Z
URL:https://members.hudsonwi.org/events/details/light-up-night-9200
END:VEVENT

END:VCALENDAR
