BEGIN:VCALENDAR
VERSION:2.0
PRODID:-//ChamberMaster//Event Calendar 2.0//EN
METHOD:PUBLISH
X-PUBLISHED-TTL:P3D
REFRESH-INTERVAL:P3D
CALSCALE:GREGORIAN
BEGIN:VEVENT
DTSTART:20260325T170000Z
DTEND:20260325T180000Z
X-MICROSOFT-CDO-ALLDAYEVENT:FALSE
SUMMARY:Let's Do Lunch! 3/25/26
DESCRIPTION:Join us for an opportunity for members to connect!\n\n \n\nEach month on the fourth Wednesday of the month at Noon\,  we will meet at a local restaurant for lunch and conversation.  This event is open to all members\, and we will rotate to the different member locations.  Attendees will pay for their own lunch. This month\, we will also be doing a giveaway for a Wisco sweatshirt from kudos!\n\n\n\nLet's Do Lunch! offers a different time for members to connect and supports local restaurants.\n\n\n\nIf you are unable to attend this month's event\, please let us know at info@hudsonwi.org or by calling the Chamber office at 715-386-8411.
X-ALT-DESC;FMTTYPE=text/html:<span style="font-size:14px\;"><span style="font-family:arial\;">Join us for an opportunity for members to connect!<br />\n&nbsp\;<br />\nEach month on the fourth Wednesday of the month at Noon\, &nbsp\;we will meet at a local restaurant for lunch and conversation.&nbsp\; This event is open to all members\, and we will rotate to the different member locations. &nbsp\;Attendees will pay for their own lunch. This month\, we will also be doing a giveaway for a Wisco sweatshirt from kudos!<br />\n<br />\nLet&rsquo\;s Do Lunch! offers a different time for members to connect and supports local restaurants.<br />\n<br />\n<strong>If you are unable to attend this month&#39\;s event\, please let us know at info@hudsonwi.org or by calling the Chamber office at 715-386-8411.</strong></span></span>\n<p style="line-height: 140%\;"><br />\n&nbsp\;</p>\n
LOCATION:Main Plate by Lock and Dam Eatery 532 2nd St Hudson\, WI\, 54016
UID:e.2450.38525
SEQUENCE:3
DTSTAMP:20260420T132140Z
URL:https://members.hudsonwi.org/events/details/let-s-do-lunch-3-25-26-38525
END:VEVENT

END:VCALENDAR
