BEGIN:VCALENDAR
VERSION:2.0
PRODID:-//ChamberMaster//Event Calendar 2.0//EN
METHOD:PUBLISH
X-PUBLISHED-TTL:P3D
REFRESH-INTERVAL:P3D
CALSCALE:GREGORIAN
BEGIN:VEVENT
DTSTART:20251119T180000Z
DTEND:20251119T190000Z
X-MICROSOFT-CDO-ALLDAYEVENT:FALSE
SUMMARY:Let's Do Lunch! 11/19/25
DESCRIPTION:Join us for an opportunity for members to connect!\n\n \n\nEach month on the fourth Wednesday of the month at Noon\,  we will meet at a local restaurant for lunch and conversation.  This event is open to all members\, and we will rotate to the different member locations.  Attendees will pay for their own lunch. \n\n\n\nLet's Do Lunch! offers a different time for members to connect and supports local restaurants.\nEnter to win a free lunch that day and a gift certificate to Buffalo Wild Wings!
X-ALT-DESC;FMTTYPE=text/html:<span style="font-size:14px\;"><span style="font-family:arial\;">Join us for an opportunity for members to connect!<br />\n&nbsp\;<br />\nEach month on the fourth Wednesday of the month at Noon\, &nbsp\;we will meet at a local restaurant for lunch and conversation.&nbsp\; This event is open to all members\, and we will rotate to the different member locations. &nbsp\;Attendees will pay for their own lunch.&nbsp\;<br />\n<br />\nLet&rsquo\;s Do Lunch! offers a different time for members to connect and supports local restaurants.</span></span>\n<p style="line-height: 140%\;"><em><span style="font-family: arial\, helvetica\, sans-serif\; font-size: 14px\; line-height: 19.6px\;">Enter to win a free lunch that day and a gift certificate to Buffalo Wild Wings!</span></em><br />\n<br />\n&nbsp\;</p>\n
LOCATION:Buffalo Wild Wings 913 Pearson Dr
UID:e.2450.36978
SEQUENCE:3
DTSTAMP:20260420T221041Z
URL:https://members.hudsonwi.org/events/details/let-s-do-lunch-11-19-25-36978
END:VEVENT

END:VCALENDAR
