BEGIN:VCALENDAR
VERSION:2.0
PRODID:-//ChamberMaster//Event Calendar 2.0//EN
METHOD:PUBLISH
X-PUBLISHED-TTL:P3D
REFRESH-INTERVAL:P3D
CALSCALE:GREGORIAN
BEGIN:VEVENT
DTSTART:20260206T150000Z
DTEND:20260206T180000Z
X-MICROSOFT-CDO-ALLDAYEVENT:FALSE
SUMMARY:KPT Collaborative Presents: The Wedding Collective
DESCRIPTION:Getting ready for wedding season?\n\n \n\nJoin us for a curated collaboration day for wedding professionals focused on connection\, collaboration\, and the season ahead.\n\n \n\nDesigned to bring together wedding curators and visionairies\, this intentionally hosted half-day creates space to connect with peers\, exchange insight\, and build relationships that elevate the experience we create for brides and grooms.\n\n \n\nThe day offers open coworking in a refined\, welcoming space\, a guided collaboration conversation\, and unhurried time to connect with fellow wedding professionals. Coffee and light refreshments are provided.\n\n \n\nAgenda\n\n \n\n9:00 9:45 | Arrival & Open Work\n\n \n\n9:45 11:00 | Guided Collaboration Session\n\n \n\n11:00 12:00 | Curated Connection & Conversation\n\n \n\nOptional: Lunch downtown Hudson\n\n \n\nCost: $35 per person. \n\nRegister now and join us to elevate your 2026 wedding season.
X-ALT-DESC;FMTTYPE=text/html:<p><span style="color:inherit\; font-family:inherit\; font-size:11pt">Getting ready for wedding season?</span></p>\n\n<p><span style="color:inherit\; font-family:inherit\; font-size:11pt">&nbsp\;</span></p>\n\n<p><span style="color:inherit\; font-family:inherit\; font-size:11pt">Join us for a curated collaboration day for wedding professionals focused on connection\, collaboration\, and the season ahead.</span></p>\n\n<p><span style="color:inherit\; font-family:inherit\; font-size:11pt">&nbsp\;</span></p>\n\n<p><span style="color:inherit\; font-family:inherit\; font-size:11pt">Designed to bring together wedding curators and visionairies\, this intentionally hosted half-day creates space to connect with peers\, exchange insight\, and build relationships that elevate the experience we create for brides and grooms.</span></p>\n\n<p><span style="color:inherit\; font-family:inherit\; font-size:11pt">&nbsp\;</span></p>\n\n<p><span style="color:inherit\; font-family:inherit\; font-size:11pt">The day offers open coworking in a refined\, welcoming space\, a guided collaboration conversation\, and unhurried time to connect with fellow wedding professionals. Coffee and light refreshments are provided.</span></p>\n\n<p><span style="color:inherit\; font-family:inherit\; font-size:11pt">&nbsp\;</span></p>\n\n<p><span style="color:inherit\; font-family:inherit\; font-size:11pt">Agenda</span></p>\n\n<p><span style="color:inherit\; font-family:inherit\; font-size:11pt">&nbsp\;</span></p>\n\n<p><span style="color:inherit\; font-family:inherit\; font-size:11pt">9:00&ndash\;9:45 | Arrival &amp\; Open Work</span></p>\n\n<p><span style="color:inherit\; font-family:inherit\; font-size:11pt">&nbsp\;</span></p>\n\n<p><span style="color:inherit\; font-family:inherit\; font-size:11pt">9:45&ndash\;11:00 | Guided Collaboration Session</span></p>\n\n<p><span style="color:inherit\; font-family:inherit\; font-size:11pt">&nbsp\;</span></p>\n\n<p><span style="color:inherit\; font-family:inherit\; font-size:11pt">11:00&ndash\;12:00 | Curated Connection &amp\; Conversation</span></p>\n\n<p><span style="color:inherit\; font-family:inherit\; font-size:11pt">&nbsp\;</span></p>\n\n<p><span style="color:inherit\; font-family:inherit\; font-size:11pt">Optional: Lunch downtown Hudson</span></p>\n\n<p><span style="color:inherit\; font-family:inherit\; font-size:11pt">&nbsp\;</span></p>\n\n<p><span style="color:inherit\; font-family:inherit\; font-size:11pt">Cost: $35 per person.&nbsp\;</span></p>\n\n<p><span style="color:inherit\; font-family:inherit\; font-size:11pt">Register now and join us to elevate your 2026 wedding season.</span></p>\n
LOCATION:KPT Collaborative 522 2nd Street Hudson\, WI 54016
UID:e.2450.38272
SEQUENCE:3
DTSTAMP:20260420T151010Z
URL:https://members.hudsonwi.org/events/details/kpt-collaborative-presents-the-wedding-collective-38272
END:VEVENT

END:VCALENDAR
