BEGIN:VCALENDAR
VERSION:2.0
PRODID:-//ChamberMaster//Event Calendar 2.0//EN
METHOD:PUBLISH
X-PUBLISHED-TTL:P3D
REFRESH-INTERVAL:P3D
CALSCALE:GREGORIAN
BEGIN:VEVENT
DTSTART:20251112T180000Z
DTEND:20251112T200000Z
X-MICROSOFT-CDO-ALLDAYEVENT:FALSE
SUMMARY:KPT Collaborative Presents: Royally Unhinged Podcast LIVE
DESCRIPTION:Hear ye\, hear ye!\n\nThe Crown Jewels of conversation are coming to KPT Collaborative!\n\nJoin us November 12 at 1pm as we host a live recording of the *Royally Unhinged* podcast - where the royal court includes entrepreneurs\, creatives and YOU!\n\nExpect sass\, sparkle\, and a few proclamations.\n\nLong live bold ideas (and unfiltered opinions!)\n\n\n\n\n\n\nJoin us for a LIVE recording of the Royally Unhinged Podcast at KPT Collaborative
X-ALT-DESC;FMTTYPE=text/html:<p>Hear ye\, hear ye!</p>\n\n<p>The Crown Jewels of conversation are coming to KPT Collaborative!</p>\n\n<p>Join us November 12 at 1pm as we host a live recording of the *Royally Unhinged* podcast - where the royal court includes entrepreneurs\, creatives and YOU!</p>\n\n<p>Expect sass\, sparkle\, and a few proclamations.</p>\n\n<p>Long live bold ideas (and unfiltered opinions!)</p>\n<br />\n<br />\n<br />\nJoin us for a LIVE recording of the Royally Unhinged Podcast at KPT Collaborative
LOCATION:KPT Collaborative 522 2nd Street Hudson\, WI 54016
UID:e.2450.36975
SEQUENCE:3
DTSTAMP:20260420T203731Z
URL:https://members.hudsonwi.org/events/details/kpt-collaborative-presents-royally-unhinged-podcast-live-36975
END:VEVENT

END:VCALENDAR
