BEGIN:VCALENDAR
VERSION:2.0
PRODID:-//ChamberMaster//Event Calendar 2.0//EN
METHOD:PUBLISH
X-PUBLISHED-TTL:P3D
REFRESH-INTERVAL:P3D
CALSCALE:GREGORIAN
BEGIN:VEVENT
DTSTART:20260227T143000Z
DTEND:20260227T160000Z
X-MICROSOFT-CDO-ALLDAYEVENT:FALSE
SUMMARY:KPT Collaborative Presents: KPT Unscripted
DESCRIPTION:Where personal stories reveal professional breakthroughs\n\nKPT Collaborative is hosting a new monthly gathering for professionals who want something deeper than networking. KPT Unscripted is built around a simple truth: when we share our real stories   the ones that shaped us\, stretched us\, and surprised us   something powerful happens.\n\nWalls come down.\n\nTrust builds.\n\nCommunity forms.\n\nWe see ourselves in each other.\n\nAnd growth becomes possible in a way it rarely does in traditional "networking" spaces.\n\nKPT Unscripted is a space for that kind of connection. Each month\, one storyteller will share a defining moment from their life or work\, followed by Q&A and a group conversation that invites honesty\, courage\, and reflection. It's about surrendering to the truth of our experiences and discovering how much we all have in common.\n\nIf you're craving a room where people speak openly\, listen generously\, and walk away a little more inspired\, encouraged\, and connected\, this is it.\n\n$29 to attend   Registration required   All are welcome\n\nWe'd love to have you in the room.
X-ALT-DESC;FMTTYPE=text/html:<p><strong><span style="color:inherit\; font-family:aptos\,sans-serif\; font-size:inherit">Where personal stories reveal professional breakthroughs</span></strong></p>\n\n<p>KPT Collaborative is hosting a new monthly gathering for professionals who want something deeper than networking. KPT Unscripted is built around a simple truth: when we share our real stories &mdash\; the ones that shaped us\, stretched us\, and surprised us &mdash\; something powerful happens.</p>\n\n<p>Walls come down.</p>\n\n<p>Trust builds.</p>\n\n<p>Community forms.</p>\n\n<p>We see ourselves in each other.</p>\n\n<p>And growth becomes possible in a way it rarely does in traditional &ldquo\;networking&rdquo\; spaces.</p>\n\n<p>KPT Unscripted is a space for that kind of connection. Each month\, one storyteller will share a defining moment from their life or work\, followed by Q&amp\;A and a group conversation that invites honesty\, courage\, and reflection. It&rsquo\;s about surrendering to the truth of our experiences and discovering how much we all have in common.</p>\n\n<p>If you&rsquo\;re craving a room where people speak openly\, listen generously\, and walk away a little more inspired\, encouraged\, and connected\, this is it.</p>\n\n<p><strong><span style="color:inherit\; font-family:aptos\,sans-serif\; font-size:inherit">$29 to attend &bull\; Registration required &bull\; All are welcome</span></strong></p>\n\n<p>We&rsquo\;d love to have you in the room.</p>\n\n<p><span style="color:inherit\; font-family:inherit\; font-size:11pt">&nbsp\;</span></p>\n
LOCATION:KPT Collaborative 522 2nd Street Hudson\, WI 54016
UID:e.2450.38232
SEQUENCE:3
DTSTAMP:20260420T150824Z
URL:https://members.hudsonwi.org/events/details/kpt-collaborative-presents-kpt-unscripted-02-27-2026-38232
END:VEVENT

END:VCALENDAR
