BEGIN:VCALENDAR
VERSION:2.0
PRODID:-//ChamberMaster//Event Calendar 2.0//EN
METHOD:PUBLISH
X-PUBLISHED-TTL:P3D
REFRESH-INTERVAL:P3D
CALSCALE:GREGORIAN
BEGIN:VEVENT
DTSTART:20251120T180000Z
DTEND:20251120T190000Z
X-MICROSOFT-CDO-ALLDAYEVENT:FALSE
SUMMARY:KPT Collaborative Presents: A Workshop with Social Media Strategist Melissa Rose
DESCRIPTION:Take your business from 'The Best-Kept Secret' to 'The Only Option in Town!'\n\n\n\nBe seen. Be chosen.\n\nJoin us for a high-impact session with Melissa Rose - visibility strategist\, podcast host\, and brick-and-mortar business owner - who's helping local entrepreneurs show up and stand out.\n\nIn this one hour hands-on workshop\, you'll:\n\n-Optimize your online profile (step-by-step)\n\n-Learn the latest strategies that actually work\n\n-Boost your local SEO instantly\n\n-Troubleshoot in real time with expert feedback\n\n-Walk away with a visibility plan you can implement immediately\n\n \n\nWhether you're building something bold\, refining your presence\, or ready to be seen - this session is designed to help you get found\, get chosen\, and grow with confidence.
X-ALT-DESC;FMTTYPE=text/html:<p>Take your business from &#39\;The Best-Kept Secret&#39\; to &#39\;The Only Option in Town!&#39\;<br />\n<br />\nBe seen. Be chosen.<br />\nJoin us for a high-impact session with Melissa Rose - visibility strategist\, podcast host\, and brick-and-mortar business owner - who&rsquo\;s helping local entrepreneurs show up and stand out.</p>\n\n<p>In this one hour hands-on workshop\, you&rsquo\;ll:</p>\n\n<p>-Optimize your online profile (step-by-step)<br />\n-Learn the latest strategies that actually work<br />\n-Boost your local SEO instantly<br />\n-Troubleshoot in real time with expert feedback<br />\n-Walk away with a visibility plan you can implement immediately</p>\n\n<p>&nbsp\;</p>\n\n<p>Whether you&#39\;re building something bold\, refining your presence\, or ready to be seen - this session is designed to help you get found\, get chosen\, and grow with confidence.</p>\n
LOCATION:KPT Collaborative 522 2nd Street Hudson\, WI 54016
UID:e.2450.36683
SEQUENCE:3
DTSTAMP:20260420T204426Z
URL:https://members.hudsonwi.org/events/details/kpt-collaborative-presents-a-workshop-with-social-media-strategist-melissa-rose-11-20-2025-36683
END:VEVENT

END:VCALENDAR
