BEGIN:VCALENDAR
VERSION:2.0
PRODID:-//ChamberMaster//Event Calendar 2.0//EN
METHOD:PUBLISH
X-PUBLISHED-TTL:P3D
REFRESH-INTERVAL:P3D
CALSCALE:GREGORIAN
BEGIN:VEVENT
DTSTART:20241128T170000Z
DTEND:20241129T000000Z
X-MICROSOFT-CDO-ALLDAYEVENT:FALSE
SUMMARY:Join us this Thanksgiving at the Afton House Inn! We've got you covered from classics to new favorites we have it all. We'll see you at the Afton House Inn.
DESCRIPTION:Join us this Thanksgiving at the Afton House Inn! We've got you covered for classic and new favorites in one of our historic rooms sure to make the holiday a special one! Give us a call to make reservations at 651-436-8883.
X-ALT-DESC;FMTTYPE=text/html:<!--StartFragment-->Join us this Thanksgiving at the Afton House Inn! We&#39\;ve got you covered for classic and new favorites in one of our historic rooms sure to make the holiday a special one! Give us a call to make reservations at 651-436-8883.<!--EndFragment-->
LOCATION:Afton House Inn 3291 St. Croix Trail S Afton\, MN\, 55001
UID:e.2450.33753
SEQUENCE:3
DTSTAMP:20260423T195032Z
URL:https://members.hudsonwi.org/events/details/join-us-this-thanksgiving-at-the-afton-house-inn-we-ve-got-you-covered-for-classic-and-new-favorites-in-one-of-our-historic-rooms-sure-to-make-the-holiday-a-special-one-33753
END:VEVENT

END:VCALENDAR
