BEGIN:VCALENDAR
VERSION:2.0
PRODID:-//ChamberMaster//Event Calendar 2.0//EN
METHOD:PUBLISH
X-PUBLISHED-TTL:P3D
REFRESH-INTERVAL:P3D
CALSCALE:GREGORIAN
BEGIN:VEVENT
DTSTART:20251109T173000Z
DTEND:20251109T193000Z
X-MICROSOFT-CDO-ALLDAYEVENT:FALSE
SUMMARY:Join us for Watercolor Painting at The Afton House Inn on November 9th at 11:30 AM!
DESCRIPTION:Join us for Watercolor Painting at The Afton House Inn on November 9th at 11:30 AM! Enjoy a relaxing morning of creativity with AR Workshop Stillwater   $20 for your first design and just $5 for each additional. All materials provided! No experience needed   just come\, sip\, and paint! Register at arworkshop.com/stillwatermn.
X-ALT-DESC;FMTTYPE=text/html:Join us for&nbsp\;<strong>Watercolor Painting at The Afton House Inn</strong>&nbsp\;on&nbsp\;<strong>November 9th at 11:30 AM</strong>! Enjoy a relaxing morning of creativity with&nbsp\;<strong>AR Workshop Stillwater</strong>&nbsp\;&mdash\; $20 for your first design and just $5 for each additional. All materials provided! No experience needed &mdash\; just come\, sip\, and paint! Register at arworkshop.com/stillwatermn.
LOCATION:The Afton House Inn
UID:e.2450.36685
SEQUENCE:3
DTSTAMP:20260420T221734Z
URL:https://members.hudsonwi.org/events/details/join-us-for-watercolor-painting-at-the-afton-house-inn-on-november-9th-at-11-30-am-36685
END:VEVENT

END:VCALENDAR
