BEGIN:VCALENDAR
VERSION:2.0
PRODID:-//ChamberMaster//Event Calendar 2.0//EN
METHOD:PUBLISH
X-PUBLISHED-TTL:P3D
REFRESH-INTERVAL:P3D
CALSCALE:GREGORIAN
BEGIN:VEVENT
DTSTART:20251123T173000Z
DTEND:20251123T193000Z
X-MICROSOFT-CDO-ALLDAYEVENT:FALSE
SUMMARY:Join us for Trucker Hats\, Bracelets and Brunch at CURRENT!
DESCRIPTION:DIY Brunch Fun at CURRENT!  Sunday\, November 23rd 11:30 AM   1:30 PM at the Afton House Inn. Grab your friends for a creative brunch experience! Choose from the Trucker Hat Bar or Jewelry Bar. Enjoy great food\, fun\, and DIY creativity all in one spot! Register today: ARWorkshop.com/stillwater
X-ALT-DESC;FMTTYPE=text/html:<p>&nbsp\;DIY Brunch Fun at CURRENT!&nbsp\;&nbsp\;Sunday\, November 23rd&nbsp\;11:30 AM &ndash\; 1:30 PM at the&nbsp\;Afton House Inn. Grab your friends for a creative brunch experience!&nbsp\;Choose from the Trucker Hat Bar or Jewelry Bar. Enjoy great food\, fun\, and DIY creativity all in one spot! Register today: ARWorkshop.com/stillwater</p>\n
LOCATION:CURRENT
UID:e.2450.36694
SEQUENCE:3
DTSTAMP:20260420T203852Z
URL:https://members.hudsonwi.org/events/details/join-us-for-trucker-hats-bracelets-and-brunch-at-current-36694
END:VEVENT

END:VCALENDAR
