BEGIN:VCALENDAR
VERSION:2.0
PRODID:-//ChamberMaster//Event Calendar 2.0//EN
METHOD:PUBLISH
X-PUBLISHED-TTL:P3D
REFRESH-INTERVAL:P3D
CALSCALE:GREGORIAN
BEGIN:VEVENT
DTSTART:20240521T180000Z
DTEND:20240521T200000Z
X-MICROSOFT-CDO-ALLDAYEVENT:FALSE
SUMMARY:Hudson Women’s Club - May event
DESCRIPTION:Join us at the Y for a tour and presentation of the "Forever Well" programs.
X-ALT-DESC;FMTTYPE=text/html:Join us at the Y for a tour and presentation of the &ldquo\;Forever Well&rdquo\; programs.
LOCATION:Hudson YMCA\, 2211 Vine Street
UID:e.2450.27604
SEQUENCE:3
DTSTAMP:20260425T223236Z
URL:https://members.hudsonwi.org/events/details/hudson-women-s-club-may-event-27604
END:VEVENT

END:VCALENDAR
