BEGIN:VCALENDAR
VERSION:2.0
PRODID:-//ChamberMaster//Event Calendar 2.0//EN
METHOD:PUBLISH
X-PUBLISHED-TTL:P3D
REFRESH-INTERVAL:P3D
CALSCALE:GREGORIAN
BEGIN:VEVENT
DTSTART:20260124T160000Z
DTEND:20260124T190000Z
X-MICROSOFT-CDO-ALLDAYEVENT:FALSE
SUMMARY:Hudson's Winter Farmers Market
DESCRIPTION:We're back for Season 2 of the Winter Market at Phipps Center for the Arts!\n\n\n\nJoin us for five market days featuring local vendors\, great food\, and friendly faces - all in a cozy creative setting that celebrates our community!\n\n\n\nHoliday Markets: Nov 15 & Dec 13\n\nWinter Markets: Jan 10\, Jan 24\, & Feb 14\n\n10 AM - 1 PM \n\nThe Phipps Center for the Arts - 109 Locust Street\, Hudson\, WI\n\n\n\n**FREE Parking available across the street - Beach House Lot (600 block of 1st Street)\, up to 4 hours!\n\n\n\nOver 25+ amazing vendors - from farmers and bakers to artisans and makers - plus delicious eats from Taqueria Los Paisanos Food Truck!
X-ALT-DESC;FMTTYPE=text/html:We&#39\;re back for Season 2 of the Winter Market at Phipps Center for the Arts!<br />\n<br />\nJoin us for five market days featuring local vendors\, great food\, and friendly faces - all in a cozy creative setting that celebrates our community!<br />\n<br />\nHoliday Markets: Nov 15 &amp\; Dec 13<br />\nWinter Markets: Jan 10\, Jan 24\, &amp\; Feb 14<br />\n10 AM - 1 PM&nbsp\;<br />\nThe Phipps Center for the Arts - 109 Locust Street\, Hudson\, WI<br />\n<br />\n**FREE Parking available across the street - Beach House Lot (600 block of 1st Street)\, up to 4 hours!<br />\n<br />\nOver 25+ amazing vendors - from farmers and bakers to artisans and makers - plus delicious eats from Taqueria Los Paisanos Food Truck!<br />\n&nbsp\;
LOCATION:The Phipps Center for the Arts - 109 Locust Street\, Hudson\, WI
UID:e.2450.37016
SEQUENCE:3
DTSTAMP:20260420T171646Z
URL:https://members.hudsonwi.org/events/details/hudson-s-winter-farmers-market-01-24-2026-37016
END:VEVENT

END:VCALENDAR
