BEGIN:VCALENDAR
VERSION:2.0
PRODID:-//ChamberMaster//Event Calendar 2.0//EN
METHOD:PUBLISH
X-PUBLISHED-TTL:P3D
REFRESH-INTERVAL:P3D
CALSCALE:GREGORIAN
BEGIN:VEVENT
DTSTART;VALUE=DATE:20260424
DTEND;VALUE=DATE:20260506
TRANSP:TRANSPARENT
X-MICROSOFT-CDO-ALLDAYEVENT:TRUE
SUMMARY:Hudson Nacho Trail 2026
DESCRIPTION:Do you consider yourself a nacho aficionado? Do you have foodie friends that are always up for a challenge? Then you're ready to take on the Hudson Nacho Trail!\n\n\n\nVisit some of Hudson's tastiest stops between April 24 and May 5 to crunch\, consider\, and cast your vote. Our restaurants are known for their exceptional flavors and creativity\, so this event is sure to be a crowd-pleaser. See the list above and start planning your Nacho journey.\n\n \n\nEach location will share the link to vote\, but only use the link once you've sampled several businesses. Only one vote will be accepted per voter to keep this competition fair. In addition\, one lucky voter will win $50 in Chamber Checks good at hundreds of our local establishments. Ballots will be tallied the week of May 5 and announced by May 8!
X-ALT-DESC;FMTTYPE=text/html:<div helvetica="" open="">Do you consider yourself a nacho aficionado? Do you have foodie friends that are always up for a challenge? Then you&#39\;re ready to take on the Hudson Nacho Trail!<br />\n<br />\nVisit some of Hudson&rsquo\;s tastiest stops&nbsp\;between April 24&nbsp\;and May 5&nbsp\;to crunch\, consider\, and cast your vote. Our restaurants are known for their exceptional flavors and creativity\, so this event is sure to be a crowd-pleaser. See the list above and start planning your Nacho journey.<br />\n&nbsp\;</div>\n\n<div helvetica="" open="">Each location will share the link to vote\, but only use the link once you&rsquo\;ve sampled several businesses. Only one vote will be accepted per voter to keep this competition fair. In addition\, <strong>one lucky voter will win $50 in Chamber Checks</strong> good at hundreds of our local establishments. Ballots will be tallied the week of May 5&nbsp\;and announced by May 8!</div>\n
LOCATION:Big Guy's BBQ Roadhouse Black Rooster Bistro Dipsy Ice Cream Shoppe Grand Fete Hudco To-Go LLC San Pedro Caf
UID:e.2450.38650
SEQUENCE:3
DTSTAMP:20260421T214821Z
URL:https://members.hudsonwi.org/events/details/hudson-nacho-trail-2026-38650
END:VEVENT

END:VCALENDAR
