BEGIN:VCALENDAR
VERSION:2.0
PRODID:-//ChamberMaster//Event Calendar 2.0//EN
METHOD:PUBLISH
X-PUBLISHED-TTL:P3D
REFRESH-INTERVAL:P3D
CALSCALE:GREGORIAN
BEGIN:VEVENT
DTSTART:20260122T230000Z
DTEND:20260123T020000Z
X-MICROSOFT-CDO-ALLDAYEVENT:FALSE
SUMMARY:Hudson Area Chamber Member Celebration 2026
DESCRIPTION:A Night of Milestones and Momentum\n\n\n\nLast year we filled the room with energy and connections\, and we're ready to do it again! Join us at Tattersall Distilling on January 22\, 2026\, for the Hudson Area Chamber Member Celebration. This year\, we're introducing new experiences such as recognizing the milestones that shaped this past year while creating momentum that strengthens our business community. If your business or organization celebrated a milestone anniversary\, please let us know and join the celebration! \n\n\n\nEnjoy exceptional food and drinks while reconnecting with your team\, meeting other local businesses\, and drawing inspiration from the progress our community has made together. Guests may purchase single tickets or reserve a table of eight\, and sponsoring companies receive complimentary tickets. \n\n______________________________________________________________\n\n\n\nInspire and Ignite\n\n\n\nAs part of our evening program\, we'll honor the Chamber members\, volunteers\, and leaders whose extraordinary contributions have strengthened both our organization and the Hudson area community. We'll also recognize outgoing board members\, welcome new board members\, and share our goals and plans for 2026. \n\n\n\nContinuing our tradition of celebrating excellence\, we will present a full slate of awards recognizing innovative\, impactful\, and community-minded achievements. This year's honors include: \n\n\n	Community Volunteer of the Year \n	Chamber Member of the Year \n	Small Business of the Year \n	Large Business of the Year \n	Nonprofit of the Year \n	Manufacturer of the Year \n	Marie Blakeman Award \n\n\n\n\nTogether\, these recognitions shine a spotlight on the individuals and organizations whose outstanding accomplishments help the Hudson area thrive. \n\n______________________________________________________________\n\n\n\nKeep the Momentum Going: Celebrate With Us\n\n\n\nSponsors receive complimentary tickets\, making it easy to join in the celebration while supporting an event that brings people together. If you'd like to help build momentum for the year ahead and connect with hundreds of local leaders and community members\, we'd love to partner with you. Contact us at 715-386-8411 or maryclaire@hudsonwi.org for sponsorship details and pricing. \n\n\n\nThe Member Celebration offers many opportunities for sponsorship and promotion of your business. By supporting this event\, area business people will become familiar with your business and its products and services.\n\n______________________________________________________________\n\n\nEvent Menu:\n\nWalleye\n\n\n	Pan fried with lemon caper butter\n	Served with Chef's selected accompaniments\n\nTwin Medallions of Beef  - GF\n\n\n	Sirloin medallions of beef with port wine bordelaise\n	Served with Chef's selected accompaniments\n\n Champagne Chicken\n\n\n	Marinated grilled chicken with champagne cream sauce\n	Served with Chef's selected accompaniments\n\nRisotto\n\n\n	Seared parmesan risotto cakes\n	Served with roasted mushrooms\, grilled asparagus\, and roasted red pepper coulis\n\n\n\nA variety of delicious desserts will be served after the meal.\n\n______________________________________________________________
X-ALT-DESC;FMTTYPE=text/html:<p style="color: rgb(88\, 89\, 91)\; font-family: Arial\, Helvetica\, sans-serif\; font-size: 12px\; line-height: 18px\;"><span style="font-family:arial\;"><span style="font-size:18px\;"><span style="color:#000000\;"><span style="language:en-US\;font-weight:bold\;font-style:normal\;">A Night of Milestones and Momentum</span><br />\n<br />\nLast year we filled the room with energy and connections\, and we&rsquo\;re ready to do it again! Join us at Tattersall Distilling on January 22\, 2026\, for the <strong>Hudson Area Chamber Member Celebration</strong>. This year\, we&rsquo\;re introducing new experiences such as recognizing the milestones that shaped this past year while creating momentum that strengthens our business community. If your business or organization celebrated a milestone anniversary\, </span><a href="mailto:info@hudsonwi.org"><span style="color:#0000FF\;">please let us know</span></a><span style="color:#000000\;">&nbsp\;and join the celebration!&#8203\;<br />\n<br />\nEnjoy exceptional food and drinks while reconnecting with your team\, meeting other local businesses\, and drawing inspiration from the progress our community has made together. Guests may purchase single tickets or reserve a table of eight\, and sponsoring companies receive complimentary tickets.&#8203\;<br />\n______________________________________________________________<br />\n<br />\n<strong>Inspire and Ignite</strong></span></span></span><br />\n<br />\n<span style="color:#000000\;"><span style="font-family:arial\;"><span style="font-size:18px\;">As part of our evening program\, we&rsquo\;ll honor the Chamber members\, volunteers\, and leaders whose extraordinary contributions have strengthened both our organization and the Hudson area community. We&rsquo\;ll also recognize outgoing board members\, welcome new board members\, and share our goals and plans for 2026.&#8203\;<br />\n<br />\nContinuing our tradition of celebrating excellence\, we will present a full slate of awards recognizing innovative\, impactful\, and community-minded achievements. This year&rsquo\;s honors include:&#8203\;</span></span></span></p>\n\n<ul>\n	<li style="color: rgb(88\, 89\, 91)\; font-family: Arial\, Helvetica\, sans-serif\; font-size: 12px\; line-height: 18px\;"><span style="color:#000000\;"><span style="font-size:18px\;"><span style="font-family:arial\;">Community Volunteer of the Year&#8203\;</span></span></span></li>\n	<li style="color: rgb(88\, 89\, 91)\; font-family: Arial\, Helvetica\, sans-serif\; font-size: 12px\; line-height: 18px\;"><span style="color:#000000\;"><span style="font-size:18px\;"><span style="font-family:arial\;"><span style="font-family:arial\;"><span style="font-size:18px\;"><span style="font-family:arial\;"><span style="font-size:18px\;">Chamber Member of the Year&#8203\;</span></span></span></span></span></span></span></li>\n	<li style="color: rgb(88\, 89\, 91)\; font-family: Arial\, Helvetica\, sans-serif\; font-size: 12px\; line-height: 18px\;"><span style="color:#000000\;"><span style="font-size:18px\;"><span style="font-family:arial\;"><span style="font-family:arial\;"><span style="font-size:18px\;"><span style="font-family:arial\;"><span style="font-size:18px\;"><span style="font-family:arial\;"><span style="font-size:18px\;">Small Business of the Year&#8203\;</span></span></span></span></span></span></span></span></span></li>\n	<li style="color: rgb(88\, 89\, 91)\; font-family: Arial\, Helvetica\, sans-serif\; font-size: 12px\; line-height: 18px\;"><span style="color:#000000\;"><span style="font-size:18px\;"><span style="font-family:arial\;"><span style="font-family:arial\;"><span style="font-size:18px\;"><span style="font-family:arial\;"><span style="font-size:18px\;"><span style="font-family:arial\;"><span style="font-size:18px\;"><span style="font-family:arial\;"><span style="font-size:18px\;">Large Business of the Year&#8203\;</span></span></span></span></span></span></span></span></span></span></span></li>\n	<li style="color: rgb(88\, 89\, 91)\; font-family: Arial\, Helvetica\, sans-serif\; font-size: 12px\; line-height: 18px\;"><span style="color:#000000\;"><span style="font-size:18px\;"><span style="font-family:arial\;"><span style="font-family:arial\;"><span style="font-size:18px\;"><span style="font-family:arial\;"><span style="font-size:18px\;"><span style="font-family:arial\;"><span style="font-size:18px\;"><span style="font-family:arial\;"><span style="font-size:18px\;"><span style="font-family:arial\;"><span style="font-size:18px\;">Nonprofit of the Year&#8203\;</span></span></span></span></span></span></span></span></span></span></span></span></span></li>\n	<li style="color: rgb(88\, 89\, 91)\; font-family: Arial\, Helvetica\, sans-serif\; font-size: 12px\; line-height: 18px\;"><span style="color:#000000\;"><span style="font-size:18px\;"><span style="font-family:arial\;"><span style="font-family:arial\;"><span style="font-size:18px\;"><span style="font-family:arial\;"><span style="font-size:18px\;"><span style="font-family:arial\;"><span style="font-size:18px\;"><span style="font-family:arial\;"><span style="font-size:18px\;"><span style="font-family:arial\;"><span style="font-size:18px\;"><span style="font-family:arial\;"><span style="font-size:18px\;">Manufacturer of the Year&#8203\;</span></span></span></span></span></span></span></span></span></span></span></span></span></span></span></li>\n	<li style="color: rgb(88\, 89\, 91)\; font-family: Arial\, Helvetica\, sans-serif\; font-size: 12px\; line-height: 18px\;"><span style="color:#000000\;"><span style="font-size:18px\;"><span style="font-family:arial\;"><span style="font-family:arial\;"><span style="font-size:18px\;"><span style="font-family:arial\;"><span style="font-size:18px\;"><span style="font-family:arial\;"><span style="font-size:18px\;"><span style="font-family:arial\;"><span style="font-size:18px\;"><span style="font-family:arial\;"><span style="font-size:18px\;"><span style="font-family:arial\;"><span style="font-size:18px\;"><span style="font-family:arial\;"><span style="font-size:18px\;">Marie Blakeman Award&#8203\;</span></span></span></span></span></span></span></span></span></span></span></span></span></span></span></span></span></li>\n</ul>\n\n<p style="color: rgb(88\, 89\, 91)\; font-family: Arial\, Helvetica\, sans-serif\; font-size: 12px\; line-height: 18px\;"><br />\n<span style="color:#000000\;"><span style="font-family:arial\;"><span style="font-size:18px\;">Together\, these recognitions shine a spotlight on the individuals and organizations whose outstanding accomplishments help the Hudson area thrive.&#8203\;</span></span><br />\n<span style="font-family: arial\; font-size: 18px\;">______________________________________________________________</span><br />\n<br />\n<span style="font-family:arial\;"><span style="font-size:18px\;"><strong>Keep the Momentum Going: Celebrate With Us</strong></span></span></span><br />\n<br />\n<span style="font-family:arial\;"><span style="font-size:18px\;"><span style="color:#000000\;">Sponsors receive complimentary tickets\, making it easy to join in the celebration while supporting an event that brings people together. If you&rsquo\;d like to help build momentum for the year ahead and connect with hundreds of local leaders and community members\, we&rsquo\;d love to partner with you. Contact us at 715-386-8411 or </span><a href="mailto:maryclaire@hudsonwi.org"><span style="color:#0000FF\;">maryclaire@hudsonwi.org</span></a><span style="color:#000000\;"> for sponsorship details and pricing.&#8203\;<br />\n<br />\nThe Member Celebration offers </span><a href="https://www.hudsonwi.org/assets/pdf/HAC+Member+Celebration+2025+Sponsorships"><span style="color:#0000FF\;">many opportunities for sponsorship and promotion</span></a><span style="color:#000000\;"> of your business. By supporting this event\, area business people will become familiar with your business and its products and services.</span></span></span><br />\n<span style="color:#000000\;"><span style="font-family: arial\; font-size: 18px\;">______________________________________________________________</span></span></p>\n\n<div style="color: rgb(88\, 89\, 91)\; font-family: Arial\, Helvetica\, sans-serif\; font-size: 12px\; line-height: 18px\;">\n<p style="line-height: 18px\;"><span style="color:#000000\;"><span style="font-family: arial\;"><span style="font-size: 18px\;"><strong>Event Menu:</strong></span></span></span></p>\n\n<div style="line-height: 18px\;"><span style="color:#000000\;"><span style="font-size:18px\;"><span style="font-family: arial\;">Walleye</span></span></span></div>\n\n<ul font-size:="" style="color: rgb(51\, 51\, 51)\; font-family: sans-serif\, Arial\, Verdana\, " trebuchet="">\n	<li style="color: black\; line-height: 14.7pt\;"><span style="color:#000000\;"><span style="font-size:18px\;"><span style="font-family: arial\;">Pan fried with lemon caper butter</span></span></span></li>\n	<li style="color: black\; line-height: 14.7pt\;"><span style="color:#000000\;"><span style="font-size:18px\;"><span style="font-family: arial\;">Served with Chef&#39\;s selected accompaniments</span></span></span></li>\n</ul>\n<span style="color:#000000\;"><span style="font-size:18px\;"><span font-size:="" trebuchet=""><span style="font-family: arial\;">Twin Medallions of Beef &nbsp\;- GF</span></span></span></span>\n\n<ul font-size:="" style="color: rgb(51\, 51\, 51)\; font-family: sans-serif\, Arial\, Verdana\, " trebuchet="">\n	<li style="color: black\; line-height: 14.7pt\;"><span style="color:#000000\;"><span style="font-size:18px\;"><span style="font-family: arial\;">Sirloin medallions of beef with port wine bordelaise</span></span></span></li>\n	<li style="color: black\; line-height: 14.7pt\;"><span style="color:#000000\;"><span style="font-size:18px\;"><span style="font-family: arial\;">Served with Chef&#39\;s selected accompaniments</span></span></span></li>\n</ul>\n<span style="color:#000000\;"><span style="font-size:18px\;"> <span font-size:="" trebuchet=""><span style="font-family: arial\;">Champagne Chicken</span></span></span></span>\n\n<ul font-size:="" style="color: rgb(51\, 51\, 51)\; font-family: sans-serif\, Arial\, Verdana\, " trebuchet="">\n	<li style="color: black\; line-height: 14.7pt\;"><span style="color:#000000\;"><span style="font-size:18px\;"><span style="font-family: arial\;">Marinated grilled chicken with champagne cream sauce</span></span></span></li>\n	<li style="color: black\; line-height: 14.7pt\;"><span style="color:#000000\;"><span style="font-size:18px\;"><span style="font-family: arial\;">Served with Chef&#39\;s selected accompaniments</span></span></span></li>\n</ul>\n<span style="color:#000000\;"><span style="font-size:18px\;"><span style="font-family:arial\;">Risotto</span></span></span>\n\n<ul>\n	<li><span style="color:#000000\;"><span style="font-size:18px\;"><span style="font-family:arial\;">Seared parmesan risotto cakes</span></span></span></li>\n	<li><span style="color:#000000\;"><span style="font-size:18px\;"><span style="font-family:arial\;">Served with roasted mushrooms\, grilled asparagus\, and roasted red pepper coulis</span></span></span></li>\n</ul>\n<br />\n<span style="color:#000000\;"><span style="font-size:18px\;"><span style="font-family:arial\;"><span font-size:="" trebuchet="">A variety of delicious desserts will be served after the meal.</span></span></span></span>\n\n<div style="line-height: 18px\;"><span style="color:#000000\;"><span style="font-family: arial\; font-size: 18px\;">______________________________________________________________</span></span></div>\n</div>\n\n<div style="color: rgb(88\, 89\, 91)\; font-family: Arial\, Helvetica\, sans-serif\; font-size: 12px\; line-height: 18px\;"><br style="color: rgb(88\, 89\, 91)\; font-family: arial\; font-size: 18px\;" />\n&nbsp\;</div>\n
LOCATION:Tattersall Distilling 1777 Paulson Road River Falls\, WI 54022
UID:e.2450.36387
SEQUENCE:3
DTSTAMP:20260420T183650Z
URL:https://members.hudsonwi.org/events/details/hudson-area-chamber-member-celebration-2026-36387
END:VEVENT

END:VCALENDAR
