BEGIN:VCALENDAR
VERSION:2.0
PRODID:-//ChamberMaster//Event Calendar 2.0//EN
METHOD:PUBLISH
X-PUBLISHED-TTL:P3D
REFRESH-INTERVAL:P3D
CALSCALE:GREGORIAN
BEGIN:VEVENT
DTSTART:20260320T230000Z
DTEND:20260321T013000Z
X-MICROSOFT-CDO-ALLDAYEVENT:FALSE
SUMMARY:History Happy Hour - Ancient Equinox
DESCRIPTION:Ancient Equinox: Myths & Histories of the Coming of Spring \n\nEnjoy light bites and springtime drinks as we delve into the centuries of meaning behind the "official" start of spring. We'll dip our own candles\, enjoy a bonfire\, share equinox stories (weather permitting)\, and set our intentions for the coming season of renewal. $15/person.  Recommended for guests 18+ (must be 21+ to imbibe).
X-ALT-DESC;FMTTYPE=text/html:<p class="x_MsoNormal" style="margin: 0in\; font-size: 12pt\; font-family: Aptos\, sans-serif\; color: rgb(36\, 36\, 36)\;"><!--StartFragment--></p>\n\n<p class="x_MsoNormal" style="margin: 0in\; font-size: 12pt\; font-family: Aptos\, sans-serif\; color: rgb(36\, 36\, 36)\;"><i><span data-olk-copy-source="MessageBody" style="border: 0px\; font-style: inherit\; font-variant: inherit\; font-weight: inherit\; font-stretch: inherit\; font-size: inherit\; line-height: inherit\; font-family: Calibri\, sans-serif\; font-optical-sizing: inherit\; font-size-adjust: inherit\; font-kerning: inherit\; font-feature-settings: inherit\; font-variation-settings: inherit\; font-language-override: inherit\; margin: 0px\; padding: 0px\; vertical-align: baseline\; color: black\;">Ancient Equinox: Myths &amp\; Histories of the Coming of Spring&nbsp\;</span></i></p>\n\n<p class="x_MsoNormal" style="margin: 0in\; font-size: 12pt\; font-family: Aptos\, sans-serif\; color: rgb(36\, 36\, 36)\;"><i><span style="border: 0px\; font-style: inherit\; font-variant: inherit\; font-weight: inherit\; font-stretch: inherit\; font-size: inherit\; line-height: inherit\; font-family: Calibri\, sans-serif\; font-optical-sizing: inherit\; font-size-adjust: inherit\; font-kerning: inherit\; font-feature-settings: inherit\; font-variation-settings: inherit\; font-language-override: inherit\; margin: 0px\; padding: 0px\; vertical-align: baseline\; color: black\;">Enjoy light bites and springtime drinks as we delve into the centuries of meaning behind the &ldquo\;official&rdquo\; start of spring. We&rsquo\;ll&nbsp\;dip our own candles\, enjoy a bonfire\, share equinox stories (weather permitting)\, and set our intentions for the coming season of renewal. $15/person.&nbsp\; Recommended for guests 18+ (must be 21+ to imbibe).&nbsp\;</span></i></p>\n\n<p class="x_MsoNormal" style="margin: 0in\; font-size: 12pt\; font-family: Aptos\, sans-serif\; color: rgb(36\, 36\, 36)\;"><!--EndFragment--></p>\n
LOCATION:Octagon House Museum 1004 3rd St.\, Hudson
UID:e.2450.38348
SEQUENCE:3
DTSTAMP:20260420T132155Z
URL:https://members.hudsonwi.org/events/details/history-happy-hour-ancient-equinox-38348
END:VEVENT

END:VCALENDAR
