BEGIN:VCALENDAR
VERSION:2.0
PRODID:-//ChamberMaster//Event Calendar 2.0//EN
METHOD:PUBLISH
X-PUBLISHED-TTL:P3D
REFRESH-INTERVAL:P3D
CALSCALE:GREGORIAN
BEGIN:VEVENT
DTSTART:20260224T140000Z
DTEND:20260224T153000Z
X-MICROSOFT-CDO-ALLDAYEVENT:FALSE
SUMMARY:Good Morning Hudson: Meet the Candidates 2/24/26
DESCRIPTION:Meet the candidates and shape the future of our community!\n\n\n\nHear from the candidates running for Hudson common council. Each candidate will present opening comments and respond to questions prepared by the Community Affairs Committee. Questions submitted by the audience will be taken as time allows.\n\n\n\nDistrict 2 - Lynn Wakefield \n\nDistrict 4 - Mike Kennedy\n\nDistrict 3 - Kelli Shanley Anderson and Christopher Rivard\n\n\n\nPlease RSVP by February 19th.
X-ALT-DESC;FMTTYPE=text/html:<strong>Meet the candidates and shape the future of our community!</strong><br />\n<br />\nHear from the candidates running for Hudson common council. Each candidate will present opening comments and respond to questions prepared by the Community Affairs Committee. Questions submitted by the audience will be taken as time allows.<br />\n<br />\nDistrict 2 - Lynn Wakefield&nbsp\;<br />\nDistrict 4 - Mike Kennedy<br />\nDistrict 3 - Kelli Shanley Anderson and Christopher Rivard<br />\n<br />\n<strong>Please RSVP by February 19th.</strong>
LOCATION:Christian Community Homes and Services - Marie Blakeman Center 1320 Wisconsin St. Hudson\, WI 54016
UID:e.2450.38290
SEQUENCE:3
DTSTAMP:20260420T151401Z
URL:https://members.hudsonwi.org/events/details/good-morning-hudson-meet-the-candidates-2-24-26-38290
END:VEVENT

END:VCALENDAR
