BEGIN:VCALENDAR
VERSION:2.0
PRODID:-//ChamberMaster//Event Calendar 2.0//EN
METHOD:PUBLISH
X-PUBLISHED-TTL:P3D
REFRESH-INTERVAL:P3D
CALSCALE:GREGORIAN
BEGIN:VEVENT
DTSTART:20260222T170000Z
DTEND:20260222T190000Z
X-MICROSOFT-CDO-ALLDAYEVENT:FALSE
SUMMARY:Girl Scout Cookie Pop Up at Belle Âme
DESCRIPTION:Girl Scout Cookie Pop Up at Belle  me
X-ALT-DESC;FMTTYPE=text/html:Girl Scout Cookie Pop Up at Belle &Acirc\;me
LOCATION:W10829 875th Avenue\, River Falls\, WI
UID:e.2450.38294
SEQUENCE:3
DTSTAMP:20260420T151449Z
URL:https://members.hudsonwi.org/events/details/girl-scout-cookie-pop-up-at-belle-&#226;me-38294
END:VEVENT

END:VCALENDAR
