BEGIN:VCALENDAR
VERSION:2.0
PRODID:-//ChamberMaster//Event Calendar 2.0//EN
METHOD:PUBLISH
X-PUBLISHED-TTL:P3D
REFRESH-INTERVAL:P3D
CALSCALE:GREGORIAN
BEGIN:VEVENT
DTSTART:20251008T170000Z
DTEND:20251008T230000Z
X-MICROSOFT-CDO-ALLDAYEVENT:FALSE
SUMMARY:Free Appliance & Scrap Metal Collection Event
DESCRIPTION:Join us for a special recycling event hosted by St. Croix County in partnership with Amery Auto Salvage. Bring any items or parts of items that are over 60% metal\, including but not limited to: appliances\, aluminum cans\, scrap metal\, copper\, aluminum\, and automotive batteries for FREE!\n\nLimited staff and equipment will be available onsite\, so please plan on unloading your items. If you have large items\, bring them to Amery Auto Salvage where they can assist unloading. (All fuel and oils must be drained from equipment)\n\n \n\nAll proceeds will go directly to the St. Croix County Sheriff's K9 Unit\, helping to support their essential work in our community!\n\n \n\nFor a full list of accepted items\, visit: https://sccwi.gov/1042/Collection-Events
X-ALT-DESC;FMTTYPE=text/html:<div>Join us for a special recycling event hosted by St. Croix County in partnership with Amery Auto Salvage. Bring any items or parts of items that are over 60% metal\, including but not limited to: appliances\, aluminum cans\, scrap metal\, copper\, aluminum\, and automotive batteries for FREE!</div>\n\n<div>Limited staff and equipment will be available onsite\, so please plan on unloading your items. If you have large items\, bring them to Amery Auto Salvage where they can assist unloading. (All fuel and oils must be drained from equipment)<br />\n&nbsp\;</div>\n\n<div>All proceeds will go directly to the St. Croix County Sheriff&rsquo\;s K9 Unit\, helping to support their essential work in our community!<br />\n&nbsp\;</div>\n\n<div>For a full list of accepted items\, visit:&nbsp\;<a class="x1i10hfl xjbqb8w x1ejq31n xd10rxx x1sy0etr x17r0tee x972fbf xcfux6l x1qhh985 xm0m39n x9f619 x1ypdohk xt0psk2 xe8uvvx xdj266r x11i5rnm xat24cr x1mh8g0r xexx8yu x4uap5 x18d9i69 xkhd6sd x16tdsg8 x1hl2dhg xggy1nq x1a2a7pz xkrqix3 x1sur9pj x1fey0fg x1s688f" href="https://sccwi.gov/1042/Collection-Events?fbclid=IwZXh0bgNhZW0CMTAAAR7urYGy_vNDfQLFQoBORSOk2EeRQQA_m6jVaXFBU6aQ7Kl8v7nkPjFZLRLEfg_aem_wG_5o8M1WxrVpTOTsv5B3g" rel="nofollow noreferrer" style="color: rgb(0\, 100\, 209)\; cursor: pointer\; text-decoration-line: none\; list-style: none\; margin: 0px\; text-align: inherit\; border-style: none\; padding: 0px\; box-sizing: border-box\; border-width: 0px\; outline: none\; -webkit-tap-highlight-color: transparent\; font-weight: 600\; touch-action: manipulation\; background-color: transparent\; display: inline\; font-family: inherit\;" tabindex="0" target="_blank">https://sccwi.gov/1042/Collection-Events</a></div>\n
LOCATION:300 Oak Ridge Pkwy\, Baldwin\, WI 54002\, United States
UID:e.2450.35601
SEQUENCE:3
DTSTAMP:20260420T234746Z
URL:https://members.hudsonwi.org/events/details/free-appliance-scrap-metal-collection-event-10-08-2025-35601
END:VEVENT

END:VCALENDAR
