BEGIN:VCALENDAR
VERSION:2.0
PRODID:-//ChamberMaster//Event Calendar 2.0//EN
METHOD:PUBLISH
X-PUBLISHED-TTL:P3D
REFRESH-INTERVAL:P3D
CALSCALE:GREGORIAN
BEGIN:VEVENT
DTSTART;VALUE=DATE:20251103
DTEND;VALUE=DATE:20251203
TRANSP:TRANSPARENT
X-MICROSOFT-CDO-ALLDAYEVENT:TRUE
SUMMARY:Find Santa 2025
DESCRIPTION:Find Santa \n\nNovember 3 - December 2\n \n\nFind Santa is back this year\, with even more participating locations! Starting Monday\, November 3\, pick up your FREE passport from any participating business. Search for a photo of Santa in each location to earn a sticker for your passport. \n\n\n\nFind Santa at 10 or more businesses and drop off your completed passport at Angel's Pet World for a chance to win one of six grand prizes! Passports must be turned in by December 2 at 4:00 p.m. \n \n\nWe welcome participants of all ages to be a part of Find Santa!\n \n\n2025 Find Santa locations:\n\nAbigail Page Antique Mall - 503 2nd St. Hudson \n\nAngel's Pet World - 105 2nd St. Hudson\n\nBackRoom Vintage - 226 Locust St. Hudson\n\nBelle Ame Vineyard - W10829 875th Ave. River Falls\n\nBlack Rooster Bistro - 516 2nd St. Hudson\n\nBrettin Orthodontics - 944 Carmichael Rd. Hudson\n\nBuffalo Wild Wings - 913 Pearson Dr. Hudson\n\nCarbone's Pizza 207 2nd St. Hudson \n\nCBD Hudson - 105 Pearson Dr. Hudson\n\nCEC Theatres - Hudson - 520 Stageline Rd. Hudson\n\nChapter2 Books - 226 Locust St. Hudson\n\nCream of the Crop - 511 2nd St. Hudson\n\nDroplets of Wellness - 226 Locust St. Suite 2 Hudson\n\net cetera - 502 2nd St. Hudson\n\nFirst State Bank and Trust - 680 Annabelle Way\, Hudson\n\nGrand Fete - 512 2nd St. Hudson\n\nBeloved Makers - 212 Locust St. Hudson \n\nHamernick's Flooring Solutions - 1621 Coulee Rd. Hudson \n\nHudson Area Chamber of Commerce & Tourism Bureau - 219 2nd St. Hudson\n\nHudco To-Go - 210 Locust St. Hudson \n\nHudson Flower Shop - 222 Locust St. Hudson\n\nHudson Grocery Co-op - 1701 Ward Ave. #200 Hudson\n\nHudson Tap - 417 2nd St. Hudson\n\nJonsey's Local Bar & Grill - 1801 Ward Ave. STE 240 Hudson\n\nKnokes Chocolates & Nuts - 218 Locust St. Hudson\n\nKPT Collaborative - 522 2nd St. Hudson\n\nkudos - 809 Dominion Dr. Hudson\n\nLa Rue Marche - 513 2nd St. Hudson\n\nMainstream Boutique - 125 2nd St. Hudson\n\nPost - American Eatery - 225 Locust St. Hudson \n\nProtein House - 1047 Pearson Dr. Hudson \n\nRiver City Stitch - 128 N 2nd St. River Falls \n\nRJ's Meats - 1101 Coulee Rd. Hudson\n\nRose & Lavender - 220 Locust St. Hudson \n\nSEASONS Gallery - 401 2nd St. Hudson\n\nSpokes and Pedals - 607 2nd St. Hudson \n\nSt. Croix Baking Co. - 424 2nd St. Hudson\n\nSt. Croix Provisions - 407 2nd St. Hudson\n\nThe 715 - 524 2nd St. Hudson\n\nThe Bees Knees - 507 2nd St. Hudson\n\nThe Jeweler's Bench - 216 Locust St. Hudson\n\nThe Octagon House Museum - 1003 3rd St. Hudson\n\nThe Purple Tree - 516 2nd St. Hudson\n\nThe Subhouse - 407 2nd. St. Hudson\n\nUrban Olive & Vine - 520 2nd St. Hudson \n\nWalmart - 2222 Crest View Dr. Hudson\n \n\nFor questions\, call 715.386.8411 or email Corinna@HudsonWI.org
X-ALT-DESC;FMTTYPE=text/html:<p dir="ltr" style="line-height:1.38\;margin-top:0pt\;margin-bottom:0pt\;"><span id="docs-internal-guid-330ea042-7fff-51b3-b7cf-6dbf788e20dd"><span style="font-size: 10pt\; font-family: Arial\, sans-serif\; background-color: transparent\; font-weight: 700\; font-variant-numeric: normal\; font-variant-east-asian: normal\; font-variant-alternates: normal\; font-variant-position: normal\; font-variant-emoji: normal\; vertical-align: baseline\; white-space-collapse: preserve\;">Find Santa&nbsp\;</span></span></p>\n\n<p dir="ltr" style="line-height:1.38\;margin-top:0pt\;margin-bottom:0pt\;"><span id="docs-internal-guid-330ea042-7fff-51b3-b7cf-6dbf788e20dd"><span style="font-size: 10pt\; font-family: Arial\, sans-serif\; background-color: transparent\; font-style: italic\; font-variant-numeric: normal\; font-variant-east-asian: normal\; font-variant-alternates: normal\; font-variant-position: normal\; font-variant-emoji: normal\; vertical-align: baseline\; white-space-collapse: preserve\;">November 3 - December 2</span></span></p>\n&nbsp\;\n\n<p dir="ltr" style="line-height:1.38\;margin-top:0pt\;margin-bottom:0pt\;"><span id="docs-internal-guid-330ea042-7fff-51b3-b7cf-6dbf788e20dd"><span style="font-size: 10pt\; font-family: Arial\, sans-serif\; background-color: transparent\; font-variant-numeric: normal\; font-variant-east-asian: normal\; font-variant-alternates: normal\; font-variant-position: normal\; font-variant-emoji: normal\; vertical-align: baseline\; white-space-collapse: preserve\;">Find Santa is back this year\, with even more participating locations! Starting Monday\, November 3\, pick up your FREE passport from any participating business. Search for a photo of Santa in each location to earn a sticker for your passport.&nbsp\;</span></span></p>\n\n<p dir="ltr" style="line-height:1.38\;margin-top:0pt\;margin-bottom:0pt\;"><br />\n<span id="docs-internal-guid-330ea042-7fff-51b3-b7cf-6dbf788e20dd"><span style="font-size: 10pt\; font-family: Arial\, sans-serif\; background-color: transparent\; font-variant-numeric: normal\; font-variant-east-asian: normal\; font-variant-alternates: normal\; font-variant-position: normal\; font-variant-emoji: normal\; vertical-align: baseline\; white-space-collapse: preserve\;">Find Santa at 10 or more businesses and drop off your completed passport at Angel&#39\;s Pet World for a chance to win one of six grand prizes! Passports must be turned in by December 2 at 4:00 p.m.&nbsp\;</span></span></p>\n&nbsp\;\n\n<p dir="ltr" style="line-height:1.38\;margin-top:0pt\;margin-bottom:0pt\;"><span id="docs-internal-guid-330ea042-7fff-51b3-b7cf-6dbf788e20dd"><span style="font-size: 10pt\; font-family: Arial\, sans-serif\; background-color: transparent\; font-variant-numeric: normal\; font-variant-east-asian: normal\; font-variant-alternates: normal\; font-variant-position: normal\; font-variant-emoji: normal\; vertical-align: baseline\; white-space-collapse: preserve\;">We welcome participants of all ages to be a part of Find Santa!</span></span></p>\n&nbsp\;\n\n<p dir="ltr" style="line-height:1.38\;margin-top:0pt\;margin-bottom:0pt\;"><span id="docs-internal-guid-330ea042-7fff-51b3-b7cf-6dbf788e20dd"><span style="font-size: 10pt\; font-family: Arial\, sans-serif\; font-variant-numeric: normal\; font-variant-east-asian: normal\; font-variant-alternates: normal\; font-variant-position: normal\; font-variant-emoji: normal\; vertical-align: baseline\; white-space-collapse: preserve\;">2025 Find Santa locations:</span></span></p>\n\n<p dir="ltr" style="line-height:1.38\;margin-top:0pt\;margin-bottom:0pt\;"><span id="docs-internal-guid-330ea042-7fff-51b3-b7cf-6dbf788e20dd"><span style="font-size: 10pt\; font-family: Arial\, sans-serif\; font-variant-numeric: normal\; font-variant-east-asian: normal\; font-variant-alternates: normal\; font-variant-position: normal\; font-variant-emoji: normal\; vertical-align: baseline\; white-space-collapse: preserve\;">Abigail Page Antique Mall - 503 2nd St. Hudson&nbsp\;</span></span></p>\n\n<p dir="ltr" style="line-height:1.38\;margin-top:0pt\;margin-bottom:0pt\;"><span id="docs-internal-guid-330ea042-7fff-51b3-b7cf-6dbf788e20dd"><span style="font-size: 10pt\; font-family: Arial\, sans-serif\; font-variant-numeric: normal\; font-variant-east-asian: normal\; font-variant-alternates: normal\; font-variant-position: normal\; font-variant-emoji: normal\; vertical-align: baseline\; white-space-collapse: preserve\;">Angel&rsquo\;s Pet World - 105 2nd St. Hudson</span></span></p>\n\n<p dir="ltr" style="line-height:1.38\;margin-top:0pt\;margin-bottom:0pt\;"><span id="docs-internal-guid-330ea042-7fff-51b3-b7cf-6dbf788e20dd"><span style="font-size: 10pt\; font-family: Arial\, sans-serif\; font-variant-numeric: normal\; font-variant-east-asian: normal\; font-variant-alternates: normal\; font-variant-position: normal\; font-variant-emoji: normal\; vertical-align: baseline\; white-space-collapse: preserve\;">BackRoom Vintage - 226 Locust St. Hudson</span></span></p>\n\n<p dir="ltr" style="line-height:1.38\;margin-top:0pt\;margin-bottom:0pt\;"><span id="docs-internal-guid-330ea042-7fff-51b3-b7cf-6dbf788e20dd"><span style="font-size: 10pt\; font-family: Arial\, sans-serif\; font-variant-numeric: normal\; font-variant-east-asian: normal\; font-variant-alternates: normal\; font-variant-position: normal\; font-variant-emoji: normal\; vertical-align: baseline\; white-space-collapse: preserve\;">Belle Ame Vineyard - W10829 875th Ave. River Falls</span></span></p>\n\n<p dir="ltr" style="line-height:1.38\;margin-top:0pt\;margin-bottom:0pt\;"><span id="docs-internal-guid-330ea042-7fff-51b3-b7cf-6dbf788e20dd"><span style="font-size: 10pt\; font-family: Arial\, sans-serif\; font-variant-numeric: normal\; font-variant-east-asian: normal\; font-variant-alternates: normal\; font-variant-position: normal\; font-variant-emoji: normal\; vertical-align: baseline\; white-space-collapse: preserve\;">Black Rooster Bistro - 516 2nd St. Hudson<br />\nBrettin Orthodontics - 944 Carmichael Rd. Hudson</span></span></p>\n\n<p dir="ltr" style="line-height:1.38\;margin-top:0pt\;margin-bottom:0pt\;"><span id="docs-internal-guid-330ea042-7fff-51b3-b7cf-6dbf788e20dd"><span style="font-size: 10pt\; font-family: Arial\, sans-serif\; font-variant-numeric: normal\; font-variant-east-asian: normal\; font-variant-alternates: normal\; font-variant-position: normal\; font-variant-emoji: normal\; vertical-align: baseline\; white-space-collapse: preserve\;">Buffalo Wild Wings - 913 Pearson Dr. Hudson</span></span></p>\n\n<p dir="ltr" style="line-height:1.38\;margin-top:0pt\;margin-bottom:0pt\;"><span id="docs-internal-guid-330ea042-7fff-51b3-b7cf-6dbf788e20dd"><span style="font-size: 10pt\; font-family: Arial\, sans-serif\; font-variant-numeric: normal\; font-variant-east-asian: normal\; font-variant-alternates: normal\; font-variant-position: normal\; font-variant-emoji: normal\; vertical-align: baseline\; white-space-collapse: preserve\;">Carbone&rsquo\;s Pizza 207 2nd St. Hudson&nbsp\;</span></span></p>\n\n<p dir="ltr" style="line-height:1.38\;margin-top:0pt\;margin-bottom:0pt\;"><span id="docs-internal-guid-330ea042-7fff-51b3-b7cf-6dbf788e20dd"><span style="font-size: 10pt\; font-family: Arial\, sans-serif\; font-variant-numeric: normal\; font-variant-east-asian: normal\; font-variant-alternates: normal\; font-variant-position: normal\; font-variant-emoji: normal\; vertical-align: baseline\; white-space-collapse: preserve\;">CBD Hudson - 105 Pearson Dr. Hudson</span></span></p>\n\n<p dir="ltr" style="line-height:1.38\;margin-top:0pt\;margin-bottom:0pt\;"><span id="docs-internal-guid-330ea042-7fff-51b3-b7cf-6dbf788e20dd"><span style="font-size: 10pt\; font-family: Arial\, sans-serif\; font-variant-numeric: normal\; font-variant-east-asian: normal\; font-variant-alternates: normal\; font-variant-position: normal\; font-variant-emoji: normal\; vertical-align: baseline\; white-space-collapse: preserve\;">CEC Theatres - Hudson - 520 Stageline Rd. Hudson</span></span></p>\n\n<p dir="ltr" style="line-height:1.38\;margin-top:0pt\;margin-bottom:0pt\;"><span id="docs-internal-guid-330ea042-7fff-51b3-b7cf-6dbf788e20dd"><span style="font-size: 10pt\; font-family: Arial\, sans-serif\; font-variant-numeric: normal\; font-variant-east-asian: normal\; font-variant-alternates: normal\; font-variant-position: normal\; font-variant-emoji: normal\; vertical-align: baseline\; white-space-collapse: preserve\;">Chapter2 Books - 226 Locust St. Hudson</span></span></p>\n\n<p dir="ltr" style="line-height:1.38\;margin-top:0pt\;margin-bottom:0pt\;"><span id="docs-internal-guid-330ea042-7fff-51b3-b7cf-6dbf788e20dd"><span style="font-size: 10pt\; font-family: Arial\, sans-serif\; font-variant-numeric: normal\; font-variant-east-asian: normal\; font-variant-alternates: normal\; font-variant-position: normal\; font-variant-emoji: normal\; vertical-align: baseline\; white-space-collapse: preserve\;">Cream of the Crop - 511 2nd St. Hudson</span></span></p>\n\n<p dir="ltr" style="line-height:1.38\;margin-top:0pt\;margin-bottom:0pt\;"><span id="docs-internal-guid-330ea042-7fff-51b3-b7cf-6dbf788e20dd"><span style="font-size: 10pt\; font-family: Arial\, sans-serif\; font-variant-numeric: normal\; font-variant-east-asian: normal\; font-variant-alternates: normal\; font-variant-position: normal\; font-variant-emoji: normal\; vertical-align: baseline\; white-space-collapse: preserve\;">Droplets of Wellness - 226 Locust St. Suite 2 Hudson</span></span></p>\n\n<p dir="ltr" style="line-height:1.38\;margin-top:0pt\;margin-bottom:0pt\;"><span id="docs-internal-guid-330ea042-7fff-51b3-b7cf-6dbf788e20dd"><span style="font-size: 10pt\; font-family: Arial\, sans-serif\; font-variant-numeric: normal\; font-variant-east-asian: normal\; font-variant-alternates: normal\; font-variant-position: normal\; font-variant-emoji: normal\; vertical-align: baseline\; white-space-collapse: preserve\;">et cetera - 502 2nd St. Hudson</span></span></p>\n\n<p dir="ltr" style="line-height:1.38\;margin-top:0pt\;margin-bottom:0pt\;"><span id="docs-internal-guid-330ea042-7fff-51b3-b7cf-6dbf788e20dd"><span style="font-size: 10pt\; font-family: Arial\, sans-serif\; font-variant-numeric: normal\; font-variant-east-asian: normal\; font-variant-alternates: normal\; font-variant-position: normal\; font-variant-emoji: normal\; vertical-align: baseline\; white-space-collapse: preserve\;">First State Bank and Trust - 680 Annabelle Way\, Hudson</span></span></p>\n\n<p dir="ltr" style="line-height:1.38\;margin-top:0pt\;margin-bottom:0pt\;"><span id="docs-internal-guid-330ea042-7fff-51b3-b7cf-6dbf788e20dd"><span style="font-size: 10pt\; font-family: Arial\, sans-serif\; font-variant-numeric: normal\; font-variant-east-asian: normal\; font-variant-alternates: normal\; font-variant-position: normal\; font-variant-emoji: normal\; vertical-align: baseline\; white-space-collapse: preserve\;">Grand Fete - 512 2nd St. Hudson</span></span></p>\n\n<p dir="ltr" style="line-height:1.38\;margin-top:0pt\;margin-bottom:0pt\;"><span id="docs-internal-guid-330ea042-7fff-51b3-b7cf-6dbf788e20dd"><span style="font-size: 10pt\; font-family: Arial\, sans-serif\; font-variant-numeric: normal\; font-variant-east-asian: normal\; font-variant-alternates: normal\; font-variant-position: normal\; font-variant-emoji: normal\; vertical-align: baseline\; white-space-collapse: preserve\;">Beloved Makers - 212 Locust St. Hudson&nbsp\;<br />\nHamernick&#39\;s Flooring Solutions - 1621 Coulee Rd. Hudson </span></span></p>\n\n<p dir="ltr" style="line-height:1.38\;margin-top:0pt\;margin-bottom:0pt\;"><span id="docs-internal-guid-330ea042-7fff-51b3-b7cf-6dbf788e20dd"><span style="font-size: 10pt\; font-family: Arial\, sans-serif\; font-variant-numeric: normal\; font-variant-east-asian: normal\; font-variant-alternates: normal\; font-variant-position: normal\; font-variant-emoji: normal\; vertical-align: baseline\; white-space-collapse: preserve\;">Hudson Area Chamber of Commerce &amp\; Tourism Bureau - 219 2nd St. Hudson</span></span></p>\n\n<p dir="ltr" style="line-height:1.38\;margin-top:0pt\;margin-bottom:0pt\;"><span id="docs-internal-guid-330ea042-7fff-51b3-b7cf-6dbf788e20dd"><span style="font-size: 10pt\; font-family: Arial\, sans-serif\; font-variant-numeric: normal\; font-variant-east-asian: normal\; font-variant-alternates: normal\; font-variant-position: normal\; font-variant-emoji: normal\; vertical-align: baseline\; white-space-collapse: preserve\;">Hudco To-Go - 210 Locust St. Hudson&nbsp\;</span></span></p>\n\n<p dir="ltr" style="line-height:1.38\;margin-top:0pt\;margin-bottom:0pt\;"><span id="docs-internal-guid-330ea042-7fff-51b3-b7cf-6dbf788e20dd"><span style="font-size: 10pt\; font-family: Arial\, sans-serif\; font-variant-numeric: normal\; font-variant-east-asian: normal\; font-variant-alternates: normal\; font-variant-position: normal\; font-variant-emoji: normal\; vertical-align: baseline\; white-space-collapse: preserve\;">Hudson Flower Shop - 222 Locust St. Hudson</span></span></p>\n\n<p dir="ltr" style="line-height:1.38\;margin-top:0pt\;margin-bottom:0pt\;"><span id="docs-internal-guid-330ea042-7fff-51b3-b7cf-6dbf788e20dd"><span style="font-size: 10pt\; font-family: Arial\, sans-serif\; font-variant-numeric: normal\; font-variant-east-asian: normal\; font-variant-alternates: normal\; font-variant-position: normal\; font-variant-emoji: normal\; vertical-align: baseline\; white-space-collapse: preserve\;">Hudson Grocery Co-op - 1701 Ward Ave. #200 Hudson</span></span></p>\n\n<p dir="ltr" style="line-height:1.38\;margin-top:0pt\;margin-bottom:0pt\;"><span id="docs-internal-guid-330ea042-7fff-51b3-b7cf-6dbf788e20dd"><span style="font-size: 10pt\; font-family: Arial\, sans-serif\; font-variant-numeric: normal\; font-variant-east-asian: normal\; font-variant-alternates: normal\; font-variant-position: normal\; font-variant-emoji: normal\; vertical-align: baseline\; white-space-collapse: preserve\;">Hudson Tap - 417 2nd St. Hudson</span></span></p>\n\n<p dir="ltr" style="line-height:1.38\;margin-top:0pt\;margin-bottom:0pt\;"><span id="docs-internal-guid-330ea042-7fff-51b3-b7cf-6dbf788e20dd"><span style="font-size: 10pt\; font-family: Arial\, sans-serif\; font-variant-numeric: normal\; font-variant-east-asian: normal\; font-variant-alternates: normal\; font-variant-position: normal\; font-variant-emoji: normal\; vertical-align: baseline\; white-space-collapse: preserve\;">Jonsey&rsquo\;s Local Bar &amp\; Grill - 1801 Ward Ave. STE 240 Hudson</span></span></p>\n\n<p dir="ltr" style="line-height:1.38\;margin-top:0pt\;margin-bottom:0pt\;"><span id="docs-internal-guid-330ea042-7fff-51b3-b7cf-6dbf788e20dd"><span style="font-size: 10pt\; font-family: Arial\, sans-serif\; font-variant-numeric: normal\; font-variant-east-asian: normal\; font-variant-alternates: normal\; font-variant-position: normal\; font-variant-emoji: normal\; vertical-align: baseline\; white-space-collapse: preserve\;">Knokes Chocolates &amp\; Nuts - 218 Locust St. Hudson</span></span></p>\n\n<p dir="ltr" style="line-height:1.38\;margin-top:0pt\;margin-bottom:0pt\;"><span id="docs-internal-guid-330ea042-7fff-51b3-b7cf-6dbf788e20dd"><span style="font-size: 10pt\; font-family: Arial\, sans-serif\; font-variant-numeric: normal\; font-variant-east-asian: normal\; font-variant-alternates: normal\; font-variant-position: normal\; font-variant-emoji: normal\; vertical-align: baseline\; white-space-collapse: preserve\;">KPT Collaborative - 522 2nd St. Hudson</span></span></p>\n\n<p dir="ltr" style="line-height:1.38\;margin-top:0pt\;margin-bottom:0pt\;"><span id="docs-internal-guid-330ea042-7fff-51b3-b7cf-6dbf788e20dd"><span style="font-size: 10pt\; font-family: Arial\, sans-serif\; font-variant-numeric: normal\; font-variant-east-asian: normal\; font-variant-alternates: normal\; font-variant-position: normal\; font-variant-emoji: normal\; vertical-align: baseline\; white-space-collapse: preserve\;">kudos - 809 Dominion Dr. Hudson</span></span></p>\n\n<p dir="ltr" style="line-height:1.38\;margin-top:0pt\;margin-bottom:0pt\;"><span id="docs-internal-guid-330ea042-7fff-51b3-b7cf-6dbf788e20dd"><span style="font-size: 10pt\; font-family: Arial\, sans-serif\; font-variant-numeric: normal\; font-variant-east-asian: normal\; font-variant-alternates: normal\; font-variant-position: normal\; font-variant-emoji: normal\; vertical-align: baseline\; white-space-collapse: preserve\;">La Rue Marche - 513 2nd St. Hudson</span></span></p>\n\n<p dir="ltr" style="line-height:1.38\;margin-top:0pt\;margin-bottom:0pt\;"><span id="docs-internal-guid-330ea042-7fff-51b3-b7cf-6dbf788e20dd"><span style="font-size: 10pt\; font-family: Arial\, sans-serif\; font-variant-numeric: normal\; font-variant-east-asian: normal\; font-variant-alternates: normal\; font-variant-position: normal\; font-variant-emoji: normal\; vertical-align: baseline\; white-space-collapse: preserve\;">Mainstream Boutique - 125 2nd St. Hudson</span></span></p>\n\n<p dir="ltr" style="line-height:1.38\;margin-top:0pt\;margin-bottom:0pt\;"><span id="docs-internal-guid-330ea042-7fff-51b3-b7cf-6dbf788e20dd"><span style="font-size: 10pt\; font-family: Arial\, sans-serif\; font-variant-numeric: normal\; font-variant-east-asian: normal\; font-variant-alternates: normal\; font-variant-position: normal\; font-variant-emoji: normal\; vertical-align: baseline\; white-space-collapse: preserve\;">Post - American Eatery - 225 Locust St. Hudson&nbsp\;</span></span></p>\n\n<p dir="ltr" style="line-height:1.38\;margin-top:0pt\;margin-bottom:0pt\;"><span id="docs-internal-guid-330ea042-7fff-51b3-b7cf-6dbf788e20dd"><span style="font-size: 10pt\; font-family: Arial\, sans-serif\; font-variant-numeric: normal\; font-variant-east-asian: normal\; font-variant-alternates: normal\; font-variant-position: normal\; font-variant-emoji: normal\; vertical-align: baseline\; white-space-collapse: preserve\;">Protein House - 1047 Pearson Dr. Hudson&nbsp\;</span></span></p>\n\n<p dir="ltr" style="line-height:1.38\;margin-top:0pt\;margin-bottom:0pt\;"><span id="docs-internal-guid-330ea042-7fff-51b3-b7cf-6dbf788e20dd"><span style="font-size: 10pt\; font-family: Arial\, sans-serif\; font-variant-numeric: normal\; font-variant-east-asian: normal\; font-variant-alternates: normal\; font-variant-position: normal\; font-variant-emoji: normal\; vertical-align: baseline\; white-space-collapse: preserve\;">River City Stitch - 128 N 2nd St. River Falls&nbsp\;</span></span></p>\n\n<p dir="ltr" style="line-height:1.38\;margin-top:0pt\;margin-bottom:0pt\;"><span id="docs-internal-guid-330ea042-7fff-51b3-b7cf-6dbf788e20dd"><span style="font-size: 10pt\; font-family: Arial\, sans-serif\; font-variant-numeric: normal\; font-variant-east-asian: normal\; font-variant-alternates: normal\; font-variant-position: normal\; font-variant-emoji: normal\; vertical-align: baseline\; white-space-collapse: preserve\;">RJ&rsquo\;s Meats - 1101 Coulee Rd. Hudson</span></span></p>\n\n<p dir="ltr" style="line-height:1.38\;margin-top:0pt\;margin-bottom:0pt\;"><span id="docs-internal-guid-330ea042-7fff-51b3-b7cf-6dbf788e20dd"><span style="font-size: 10pt\; font-family: Arial\, sans-serif\; font-variant-numeric: normal\; font-variant-east-asian: normal\; font-variant-alternates: normal\; font-variant-position: normal\; font-variant-emoji: normal\; vertical-align: baseline\; white-space-collapse: preserve\;">Rose &amp\; Lavender - 220 Locust St. Hudson&nbsp\;</span></span></p>\n\n<p dir="ltr" style="line-height:1.38\;margin-top:0pt\;margin-bottom:0pt\;"><span id="docs-internal-guid-330ea042-7fff-51b3-b7cf-6dbf788e20dd"><span style="font-size: 10pt\; font-family: Arial\, sans-serif\; font-variant-numeric: normal\; font-variant-east-asian: normal\; font-variant-alternates: normal\; font-variant-position: normal\; font-variant-emoji: normal\; vertical-align: baseline\; white-space-collapse: preserve\;">SEASONS Gallery - 401 2nd St. Hudson</span></span></p>\n\n<p dir="ltr" style="line-height:1.38\;margin-top:0pt\;margin-bottom:0pt\;"><span id="docs-internal-guid-330ea042-7fff-51b3-b7cf-6dbf788e20dd"><span style="font-size: 10pt\; font-family: Arial\, sans-serif\; font-variant-numeric: normal\; font-variant-east-asian: normal\; font-variant-alternates: normal\; font-variant-position: normal\; font-variant-emoji: normal\; vertical-align: baseline\; white-space-collapse: preserve\;">Spokes and Pedals - 607 2nd St. Hudson&nbsp\;</span></span></p>\n\n<p dir="ltr" style="line-height:1.38\;margin-top:0pt\;margin-bottom:0pt\;"><span id="docs-internal-guid-330ea042-7fff-51b3-b7cf-6dbf788e20dd"><span style="font-size: 10pt\; font-family: Arial\, sans-serif\; font-variant-numeric: normal\; font-variant-east-asian: normal\; font-variant-alternates: normal\; font-variant-position: normal\; font-variant-emoji: normal\; vertical-align: baseline\; white-space-collapse: preserve\;">St. Croix Baking Co. - 424 2nd St. Hudson</span></span></p>\n\n<p dir="ltr" style="line-height:1.38\;margin-top:0pt\;margin-bottom:0pt\;"><span id="docs-internal-guid-330ea042-7fff-51b3-b7cf-6dbf788e20dd"><span style="font-size: 10pt\; font-family: Arial\, sans-serif\; font-variant-numeric: normal\; font-variant-east-asian: normal\; font-variant-alternates: normal\; font-variant-position: normal\; font-variant-emoji: normal\; vertical-align: baseline\; white-space-collapse: preserve\;">St. Croix Provisions - 407 2nd St. Hudson</span></span></p>\n\n<p dir="ltr" style="line-height:1.38\;margin-top:0pt\;margin-bottom:0pt\;"><span id="docs-internal-guid-330ea042-7fff-51b3-b7cf-6dbf788e20dd"><span style="font-size: 10pt\; font-family: Arial\, sans-serif\; font-variant-numeric: normal\; font-variant-east-asian: normal\; font-variant-alternates: normal\; font-variant-position: normal\; font-variant-emoji: normal\; vertical-align: baseline\; white-space-collapse: preserve\;">The 715 - 524 2nd St. Hudson</span></span></p>\n\n<p dir="ltr" style="line-height:1.38\;margin-top:0pt\;margin-bottom:0pt\;"><span id="docs-internal-guid-330ea042-7fff-51b3-b7cf-6dbf788e20dd"><span style="font-size: 10pt\; font-family: Arial\, sans-serif\; font-variant-numeric: normal\; font-variant-east-asian: normal\; font-variant-alternates: normal\; font-variant-position: normal\; font-variant-emoji: normal\; vertical-align: baseline\; white-space-collapse: preserve\;">The Bees Knees - 507 2nd St. Hudson</span></span></p>\n\n<p dir="ltr" style="line-height:1.38\;margin-top:0pt\;margin-bottom:0pt\;"><span id="docs-internal-guid-330ea042-7fff-51b3-b7cf-6dbf788e20dd"><span style="font-size: 10pt\; font-family: Arial\, sans-serif\; font-variant-numeric: normal\; font-variant-east-asian: normal\; font-variant-alternates: normal\; font-variant-position: normal\; font-variant-emoji: normal\; vertical-align: baseline\; white-space-collapse: preserve\;">The Jeweler&#39\;s Bench - 216 Locust St. Hudson</span></span></p>\n\n<p dir="ltr" style="line-height:1.38\;margin-top:0pt\;margin-bottom:0pt\;"><span id="docs-internal-guid-330ea042-7fff-51b3-b7cf-6dbf788e20dd"><span style="font-size: 10pt\; font-family: Arial\, sans-serif\; font-variant-numeric: normal\; font-variant-east-asian: normal\; font-variant-alternates: normal\; font-variant-position: normal\; font-variant-emoji: normal\; vertical-align: baseline\; white-space-collapse: preserve\;">The Octagon House Museum - 1003 3rd St. Hudson</span></span></p>\n\n<p dir="ltr" style="line-height:1.38\;margin-top:0pt\;margin-bottom:0pt\;"><span id="docs-internal-guid-330ea042-7fff-51b3-b7cf-6dbf788e20dd"><span style="font-size: 10pt\; font-family: Arial\, sans-serif\; font-variant-numeric: normal\; font-variant-east-asian: normal\; font-variant-alternates: normal\; font-variant-position: normal\; font-variant-emoji: normal\; vertical-align: baseline\; white-space-collapse: preserve\;">The Purple Tree - 516 2nd St. Hudson</span></span></p>\n\n<p dir="ltr" style="line-height:1.38\;margin-top:0pt\;margin-bottom:0pt\;"><span id="docs-internal-guid-330ea042-7fff-51b3-b7cf-6dbf788e20dd"><span style="font-size: 10pt\; font-family: Arial\, sans-serif\; font-variant-numeric: normal\; font-variant-east-asian: normal\; font-variant-alternates: normal\; font-variant-position: normal\; font-variant-emoji: normal\; vertical-align: baseline\; white-space-collapse: preserve\;">The Subhouse - 407 2nd. St. Hudson</span></span></p>\n\n<p dir="ltr" style="line-height:1.38\;margin-top:0pt\;margin-bottom:0pt\;"><span id="docs-internal-guid-330ea042-7fff-51b3-b7cf-6dbf788e20dd"><span style="font-size: 10pt\; font-family: Arial\, sans-serif\; font-variant-numeric: normal\; font-variant-east-asian: normal\; font-variant-alternates: normal\; font-variant-position: normal\; font-variant-emoji: normal\; vertical-align: baseline\; white-space-collapse: preserve\;">Urban Olive &amp\; Vine - 520 2nd St. Hudson&nbsp\;</span></span></p>\n\n<p dir="ltr" style="line-height:1.38\;margin-top:0pt\;margin-bottom:0pt\;"><span id="docs-internal-guid-330ea042-7fff-51b3-b7cf-6dbf788e20dd"><span style="font-size: 10pt\; font-family: Arial\, sans-serif\; font-variant-numeric: normal\; font-variant-east-asian: normal\; font-variant-alternates: normal\; font-variant-position: normal\; font-variant-emoji: normal\; vertical-align: baseline\; white-space-collapse: preserve\;">Walmart - 2222 Crest View Dr. Hudson</span></span></p>\n&nbsp\;\n\n<p dir="ltr" style="line-height:1.38\;margin-top:0pt\;margin-bottom:0pt\;"><span id="docs-internal-guid-330ea042-7fff-51b3-b7cf-6dbf788e20dd"><span style="font-size: 10pt\; font-family: Arial\, sans-serif\; font-variant-numeric: normal\; font-variant-east-asian: normal\; font-variant-alternates: normal\; font-variant-position: normal\; font-variant-emoji: normal\; vertical-align: baseline\; white-space-collapse: preserve\;">For questions\, call 715.386.8411 or email </span><a href="mailto:Corinna@HudsonWI.org" style="text-decoration-line: none\;"><span style="font-size: 10pt\; font-family: Arial\, sans-serif\; color: rgb(17\, 85\, 204)\; font-variant-numeric: normal\; font-variant-east-asian: normal\; font-variant-alternates: normal\; font-variant-position: normal\; font-variant-emoji: normal\; text-decoration-line: underline\; text-decoration-skip-ink: none\; vertical-align: baseline\; white-space-collapse: preserve\;">Corinna@HudsonWI.org</span></a></span></p>\n
LOCATION:Hudson Area
UID:e.2450.36841
SEQUENCE:3
DTSTAMP:20260420T202251Z
URL:https://members.hudsonwi.org/events/details/find-santa-2025-36841
END:VEVENT

END:VCALENDAR
