BEGIN:VCALENDAR
VERSION:2.0
PRODID:-//ChamberMaster//Event Calendar 2.0//EN
METHOD:PUBLISH
X-PUBLISHED-TTL:P3D
REFRESH-INTERVAL:P3D
CALSCALE:GREGORIAN
BEGIN:VEVENT
DTSTART:20240711T210000Z
DTEND:20240712T010000Z
X-MICROSOFT-CDO-ALLDAYEVENT:FALSE
SUMMARY:Farmer's Market and Pizza Night
DESCRIPTION:Come to Camp St. Croix and enjoy a night on the farm! This event will take place at our North Entrance (DayCroix\, Farm Entrance). \n\n	Farmers Market with local bendors.\n	Join us for build your own pizza on the farm! Bring your own picnic utensils and prepare to eat a wood-fired pizza right on the farm with your family and friends. \n\nThis is an interactive pizza night - if you have been to pizza on a farm before\, this might be different than you are expecting. You will purchase a pizza starter kit (box\, sauce\, veggies) from the Farm Store\, and then we'll guide you through the process purchasing all your pizza ingredients from local farmers!\n\n\n\nOnce all your ingredients are collected\, you will come to the barn and assemble the pizza yourself before bringing it to the wood fired oven where the Farm Staff will cook it for you! Through this interactive experience\, you will meet the farmers who grew it\, and you'll notice that the flavor of these local ingredients is truly outstanding.\n\n\n\nPrepare for this experience to take time\, especially the baking\, so enjoy our gardens\, or take a wagon ride around camp pulled by our vintage Farmall C. You'll also have the option to "take and bake" if need be\, or eat one pizza on the farm and bring a second home! \n\n\n\nPrices (all pizzas are 12") \n\n	One pizza: $25\n	Two pizzas: $35\n	Three pizzas: $40\n\nWith local vendors\, fresh toppings\, that change with the seasons\, and some creativity from you\, the menu options can be as basic or creative as you'd like.\n\n\n\nOther fun things to do if you already ate dinner:\n\n	Enjoy the farmers market!\n	Wagon rides pulled behind our vintage 1946 Farmall C\n	Donkey (donkey arriving to camp at the end of June)\, sheep\, and chicken visits\n	Garden tours\n	Family time and memories galore at sundown
X-ALT-DESC;FMTTYPE=text/html:Come to Camp St. Croix and enjoy a night on the farm! This event will take place at our North Entrance (DayCroix\, Farm Entrance).&nbsp\;\n<ul>\n	<li>Farmers Market with local bendors.</li>\n	<li>Join us for build your own pizza on the farm! Bring your own picnic utensils and prepare to eat a wood-fired pizza right on the farm with your family and friends.&nbsp\;</li>\n</ul>\nThis is an interactive pizza night - if you have been to pizza on a farm before\, this might be different than you are expecting. You will purchase a pizza starter kit (box\, sauce\, veggies) from the Farm Store\, and then we&#39\;ll guide you through the process purchasing all your pizza ingredients from local farmers!<br />\n<br />\nOnce all your ingredients are collected\, you will come to the barn and assemble the pizza yourself before bringing it to the wood fired oven where the Farm Staff will cook it for you! Through this interactive experience\, you will meet the farmers who grew it\, and you&#39\;ll notice that the flavor of these local ingredients is truly outstanding.<br />\n<br />\nPrepare for this experience to take time\, especially the baking\, so enjoy our gardens\, or take a wagon ride around camp pulled by our vintage Farmall C. You&#39\;ll also have the option to &quot\;take and bake&quot\; if need be\, or eat one pizza on the farm and bring a second home!&nbsp\;<br />\n<br />\nPrices (all pizzas are 12&quot\;)&nbsp\;\n<ul>\n	<li>One pizza: $25</li>\n	<li>Two pizzas: $35</li>\n	<li>Three pizzas: $40</li>\n</ul>\nWith local vendors\, fresh toppings\, that change with the seasons\, and some creativity from you\, the menu options can be as basic or creative as you&#39\;d like.<br />\n<br />\nOther fun things to do if you already ate dinner:\n<ul>\n	<li>Enjoy the farmers market!</li>\n	<li>Wagon rides pulled behind our vintage 1946 Farmall C</li>\n	<li>Donkey (donkey arriving to camp at the end of June)\, sheep\, and chicken visits</li>\n	<li>Garden tours</li>\n	<li>Family time and memories galore at sundown&nbsp\;</li>\n</ul>\n
LOCATION:YMCA Camp St. Croix DayCroix 345 Riverview Drive Hudson\, WI
UID:e.2450.29362
SEQUENCE:3
DTSTAMP:20260425T183451Z
URL:https://members.hudsonwi.org/events/details/farmer-s-market-and-pizza-night-29362
END:VEVENT

END:VCALENDAR
