BEGIN:VCALENDAR
VERSION:2.0
PRODID:-//ChamberMaster//Event Calendar 2.0//EN
METHOD:PUBLISH
X-PUBLISHED-TTL:P3D
REFRESH-INTERVAL:P3D
CALSCALE:GREGORIAN
BEGIN:VEVENT
DTSTART:20251105T170000Z
DTEND:20251105T183000Z
X-MICROSOFT-CDO-ALLDAYEVENT:FALSE
SUMMARY:Discover Your Strength: Ladies Edition
DESCRIPTION:Join us for a fun and empowering women's event! Enjoy a guided workout with our expert trainers\, then relax with wine\, charcuterie\, and door prizes including a Starbucks gift card and a free month at Discover Strength. Plus\, everyone who attends receives a free introductory workout and 2 free personal training sessions!
X-ALT-DESC;FMTTYPE=text/html:<p>Join us for a fun and empowering women&rsquo\;s event! Enjoy a guided workout with our expert trainers\, then relax with wine\, charcuterie\, and door prizes&mdash\;including a Starbucks gift card and a free month at Discover Strength. Plus\, everyone who attends receives a free introductory workout and 2 free personal training sessions!</p>\n
LOCATION:1007 Pearson Dr\, Hudson\, WI 54016
UID:e.2450.36693
SEQUENCE:3
DTSTAMP:20260420T204037Z
URL:https://members.hudsonwi.org/events/details/discover-your-strength-ladies-edition-11-05-2025-36693
END:VEVENT

END:VCALENDAR
