BEGIN:VCALENDAR
VERSION:2.0
PRODID:-//ChamberMaster//Event Calendar 2.0//EN
METHOD:PUBLISH
X-PUBLISHED-TTL:P3D
REFRESH-INTERVAL:P3D
CALSCALE:GREGORIAN
BEGIN:VEVENT
DTSTART:20260303T150000Z
DTEND:20260303T160000Z
X-MICROSOFT-CDO-ALLDAYEVENT:FALSE
SUMMARY:Connections & Coffee - 3/3/26
DESCRIPTION:Join us for our March meeting of Connections & Coffee!\n\n	Bring plenty of business cards for a business card exchange. \n	Continue to network and build relationships with other members of the business community.\n	Hear updates from the Chamber on how to connect and promote your business. \n\n  Presenting at this meeting will be Linda La Kosky Eng from Minuteman Press - Hudson. Come hear from Linda to learn more about how to successfully run a booth at trade shows! She will discuss tactics and tools like banners\, giveaways\, and how to set up an eye-catching booth.
X-ALT-DESC;FMTTYPE=text/html:<span style="font-size:14px\;"><span style="color:#696969\;">Join us for our March meeting of Connections &amp\; Coffee!</span></span>\n<ul>\n	<li><span style="font-size:14px\;"><span style="color:#696969\;">Bring plenty of business cards for a business card exchange.&nbsp\;</span></span></li>\n	<li><span style="font-size:14px\;"><span style="color:#696969\;">Continue to network and build relationships with other members of the business community.</span></span></li>\n	<li><span style="font-size:14px\;"><span style="color:#696969\;">Hear updates from the Chamber on how to connect and promote your business.&nbsp\;</span></span></li>\n</ul>\n<span style="font-size:14px\;"> <span style="color:#696969\;"> Presenting at this meeting will be Linda La Kosky Eng from Minuteman Press - Hudson.&nbsp\;Come hear from Linda to learn more about how to successfully run a booth at trade shows! She will discuss tactics and tools like banners\, giveaways\, and how to set up an eye-catching booth.</span></span>
LOCATION:Citizens State Bank 375 Stageline Road
UID:e.2450.38334
SEQUENCE:3
DTSTAMP:20260420T132118Z
URL:https://members.hudsonwi.org/events/details/connections-coffee-3-3-26-38334
END:VEVENT

END:VCALENDAR
