BEGIN:VCALENDAR
VERSION:2.0
PRODID:-//ChamberMaster//Event Calendar 2.0//EN
METHOD:PUBLISH
X-PUBLISHED-TTL:P3D
REFRESH-INTERVAL:P3D
CALSCALE:GREGORIAN
BEGIN:VEVENT
DTSTART:20260106T150000Z
DTEND:20260106T160000Z
X-MICROSOFT-CDO-ALLDAYEVENT:FALSE
SUMMARY:Connections & Coffee - 1/6/2026
DESCRIPTION:Join us for our January meeting of Connections & Coffee!\n\n	Bring plenty of business cards for a business card exchange. \n	Continue to network and build relationships with other members of the business community.\n	Hear updates from the Chamber on how to connect and promote your business. \n\nPresenting at this meeting will be Tom Vogler with Sleep in Heavenly Peace.
X-ALT-DESC;FMTTYPE=text/html:Join us for our January meeting of Connections &amp\; Coffee!\n<ul>\n	<li>Bring plenty of business cards for a business card exchange.&nbsp\;</li>\n	<li>Continue to network and build relationships with other members of the business community.</li>\n	<li>Hear updates from the Chamber on how to connect and promote your business.&nbsp\;</li>\n</ul>\nPresenting at this meeting will be Tom Vogler with Sleep in Heavenly Peace.&nbsp\;
LOCATION:Citizens State Bank 375 Stageline Road
UID:e.2450.37260
SEQUENCE:3
DTSTAMP:20260420T165752Z
URL:https://members.hudsonwi.org/events/details/connections-coffee-1-6-2026-37260
END:VEVENT

END:VCALENDAR
