BEGIN:VCALENDAR
VERSION:2.0
PRODID:-//ChamberMaster//Event Calendar 2.0//EN
METHOD:PUBLISH
X-PUBLISHED-TTL:P3D
REFRESH-INTERVAL:P3D
CALSCALE:GREGORIAN
BEGIN:VEVENT
DTSTART;VALUE=DATE:20190625
DTEND;VALUE=DATE:20190626
TRANSP:TRANSPARENT
X-MICROSOFT-CDO-ALLDAYEVENT:TRUE
SUMMARY:Chamber Golf Tournament 2019
DESCRIPTION:Dust off the clubs! You're invited to a fun afternoon of networking and golfing with fellow Chamber members at the 22nd annual Chamber Golf Tournament scheduled Tuesday\, June 25 at Troy Burne Golf Club.\n\n \n\nThe festivities begin with registration and box lunch at 11 a.m. and a shotgun start to the golf at 12 noon. After a fun day on the links\, golfers will enjoy a social hour starting at 5 p.m. and a dinner and program at 6 p.m. Non-golfers are welcome to attend lunch and dinner.\n\n\n\nContact the Chamber Office for more information at (715) 386-8411.\n\n\n\nRegister online using link above.\n\n\n\nDiscount pricing for early registration - $155. Registrations received after June 7th - $175\n\nGolf package includes: Greens fees\, cart\, lunch\, dinner and a sponsor gift\n\n\n\nSponsorships are also available. \n\nDownload the list of this year's sponsorhips opportunities. \n\n\n\nPlan your day\n\n \n\nRegistration & Lunch: 11 a.m.\n\nA bag drop will be provided as you enter Troy Burne Golf Club. Register and enjoy lunch. \n\nNon-golfers are invited to join us for lunch\; simply complete the registration for "lunch only".\n\nHole Sponsors: Please order lunches in advance for your staff located at your hole. \n\n \n\nShotgun Start - Rain or shine: 12 noon \n\nYou will receive your starting hole number at registration. Play will follow a best ball\, 18-hole\, four-member team scramble type tournament. Every player tees off\; the best team shot is selected. All players hit their next shot from that position. \n\nOfficial rules will be provided at the tournament. \n\n \n\nSocial: 5 p.m.\n\nJoin fellow Chamber members and guests at the clubhouse for refreshments and networking.  Cash bar available.\n\n \n\nDinner & Program: 5:30 p.m.\n\nEnjoy a buffet dinner and brief program will follow when we will recognize the award winners with their prizes. \n\nNon-golfers are invited to join us for dinner\; register for "dinner only".\n\nSponsors: Please order dinner in advance for your staff.
X-ALT-DESC;FMTTYPE=text/html:<br />\nDust off the clubs! You&#39\;re invited to a fun afternoon of networking and golfing with fellow Chamber members at the <strong>22nd annual Chamber Golf Tournamen</strong>t scheduled <strong>Tuesday\, June 25 at Troy Burne Golf Club</strong>.<br />\n&nbsp\;<br />\nThe festivities begin with registration and box lunch at 11 a.m. and a shotgun start to the golf at 12 noon. After a fun day on the links\, golfers will enjoy a social hour starting at 5 p.m. and a dinner and program at 6 p.m. Non-golfers are welcome to attend lunch and dinner.<br />\n<br />\nContact the Chamber Office for more information at (715) 386-8411.<br />\n<br />\n<strong>Register online using link above.</strong><br />\n<br />\nDiscount pricing for early registration - $155. Registrations received after June 7th - $175<br />\nGolf package includes: Greens fees\, cart\, lunch\, dinner and a sponsor gift<br />\n<br />\nSponsorships are also available.&nbsp\;<br />\n<a href="https://chambermaster.blob.core.windows.net/userfiles/UserFiles/chambers/2450/File/2019-Golf-Tournament-Sponsorship.pdf">Download the list of this year&#39\;s sponsorhips opportunities.</a>&nbsp\;<br />\n<br />\n<u><strong>Plan your day</strong></u><br />\n&nbsp\;<br />\n<strong>Registration &amp\; Lunch: 11 a.m.</strong><br />\nA bag drop will be provided as you enter Troy Burne Golf Club. Register and enjoy lunch.&nbsp\;<br />\nNon-golfers are invited to join us for lunch\; simply complete the registration for &quot\;lunch only&quot\;.<br />\n<em>Hole Sponsors: Please order lunches in advance for your staff located at your hole.&nbsp\;</em><br />\n&nbsp\;<br />\n<strong>Shotgun Start - Rain or shine: 12 noon&nbsp\;</strong><br />\nYou will receive your starting hole number at registration. Play will follow a best ball\, 18-hole\, four-member team scramble type tournament. Every player tees off\; the best team shot is selected. All players hit their next shot from that position.&nbsp\;<br />\nOfficial rules will be provided at the tournament.&nbsp\;<br />\n&nbsp\;<br />\n<strong>Social: 5 p.m.</strong><br />\nJoin fellow Chamber members and guests at the clubhouse for refreshments and networking.&nbsp\; Cash bar available.<br />\n&nbsp\;<br />\n<strong>Dinner &amp\; Program: 5:30 p.m.</strong><br />\nEnjoy a buffet dinner and brief program will follow when we will recognize the award winners with their prizes.&nbsp\;<br />\nNon-golfers are invited to join us for dinner\; register for &quot\;dinner only&quot\;.<br />\n<em>Sponsors: Please order dinner in advance for your staff.</em><br />\n<br />\n&nbsp\;
LOCATION:Troy Burne Golf Club 295 Lindsay Road Hudson\, WI 54016
UID:e.2450.13961
SEQUENCE:3
DTSTAMP:20260423T132137Z
URL:https://members.hudsonwi.org/events/details/chamber-golf-tournament-2019-13961
END:VEVENT

END:VCALENDAR
