BEGIN:VCALENDAR
VERSION:2.0
PRODID:-//ChamberMaster//Event Calendar 2.0//EN
METHOD:PUBLISH
X-PUBLISHED-TTL:P3D
REFRESH-INTERVAL:P3D
CALSCALE:GREGORIAN
BEGIN:VEVENT
DTSTART:20190612T170000Z
DTEND:20190612T180000Z
X-MICROSOFT-CDO-ALLDAYEVENT:FALSE
SUMMARY:Welcome to the Hudson Chamber Membership Orientation
DESCRIPTION:Welcome to the Hudson Chamber Membership Orientation is a comprehensive membership orientation.\n\n\n\nIn this session you will learn about the Chamber mission\, Member benefits\, meetings and networking events\, committees\, sponsorship's\, and how to maximize the benefits of your Chamber investment. Attend this orientation to meet the staff and get the facts about how we can serve you and your business. \n\n\n\nMembers are encouraged to bring additional staff to the orientation.\n\n\n\nNot yet a member?  If you are interested in learning more about the Chamber we invite you to attend this information session as well.\n\n\n\nCan't make it? These orientations are held the second Wednesday of each month from Noon-1 p.m. at the Chamber office.\n\n\n\nR.S.V.P recommended
X-ALT-DESC;FMTTYPE=text/html:Welcome to the Hudson Chamber Membership Orientation is a comprehensive membership orientation.<br />\n<br />\nIn this session you will learn about the Chamber mission\, Member benefits\, meetings and networking events\, committees\, sponsorship&#39\;s\, and how to maximize the benefits of your Chamber investment. Attend this orientation to meet the staff and get the facts about how we can serve you and your business.&nbsp\;<br />\n<br />\nMembers are encouraged to bring additional staff to the orientation.<br />\n<br />\nNot yet a member?&nbsp\; If you are interested in learning more about the Chamber we invite you to attend this information session as well.<br />\n<br />\nCan&#39\;t make it? These orientations are held the second Wednesday of each month from Noon-1 p.m. at the Chamber office.<br />\n<br />\nR.S.V.P recommended<br />\n&nbsp\;
LOCATION:Hudson Area Chamber of Commerce & Tourism Bureau
UID:e.2450.14031
SEQUENCE:3
DTSTAMP:20260423T132138Z
URL:https://members.hudsonwi.org/events/details/chamber-101-membership-orientation-06-12-2019-14031
END:VEVENT

END:VCALENDAR
