BEGIN:VCALENDAR
VERSION:2.0
PRODID:-//ChamberMaster//Event Calendar 2.0//EN
METHOD:PUBLISH
X-PUBLISHED-TTL:P3D
REFRESH-INTERVAL:P3D
CALSCALE:GREGORIAN
BEGIN:VEVENT
DTSTART:20260609T220000Z
DTEND:20260610T013000Z
X-MICROSOFT-CDO-ALLDAYEVENT:FALSE
SUMMARY:CCH Legacy of Grace Gala Fundraiser
DESCRIPTION:CCH A LEGACY OF GRACE - Annual Fundraiser\n\nDinner\, Storytelling\, Live Auction & More!\n\n\n\nJoin us for an unforgettable evening as we honor 45 years of compassion\, commitment\, and community impact - a milestone celebration reflecting the heart of our mission and the grace that has carried us this far.\n\n\n\nStep into an evening filled with meaning and purpose\, where stories of hope come to life and the legacy of caring continues to grow. Together\, we'll celebrate the individuals\, families\, partners\, and supporters who have shaped our journey and have help extend kindness to those who needed it most.\n\n\n\n\n\nTickets are $60 per person and are required and will be available at either CCH campus location\, or by contacting Lisa Woletz at 715-386-4520 lisa.woletz@cchhudson.org.
X-ALT-DESC;FMTTYPE=text/html:<div>\n<div>\n<p><span style="color:rgb(2\, 66\, 114)">CCH A LEGACY OF GRACE - Annual Fundraiser<br />\nDinner\, Storytelling\, Live Auction &amp\; More!<br />\n<br />\nJoin us for an unforgettable evening as we honor 45 years of&nbsp\;</span><span style="color:rgb(2\, 66\, 114)">compassion\, commitment\, and community impact - a milestone celebration reflecting the heart of our mission and the grace that has carried us this far.</span></p>\n</div>\n\n<div>\n<p><span style="color:rgb(2\, 66\, 114)">Step into an evening filled with meaning and purpose\, where stories of hope come to life and the legacy of caring continues to grow.&nbsp\;</span><span style="color:rgb(2\, 66\, 114)">Together\, we&rsquo\;ll celebrate the individuals\, families\, partners\, and supporters who have shaped our journey and have help extend kindness to those who needed it most.</span></p>\n</div>\n\n<div>\n<p><br />\n<span style="color:rgb(2\, 66\, 114)">Tickets are $60 per person and are required and will be available at either CCH campus location\, or by contacting Lisa Woletz at&nbsp\;715-386-4520 lisa.woletz@cchhudson.org.&nbsp\;&nbsp\;</span><br />\n&nbsp\;</p>\n</div>\n</div>\n
LOCATION:St. Croix National Golf & Event Center 1603 32nd Avenue Somerset\, WI 54025
UID:e.2450.38601
SEQUENCE:3
DTSTAMP:20260419T172638Z
URL:https://members.hudsonwi.org/events/details/cch-legacy-of-grace-gala-fundraiser-38601
END:VEVENT

END:VCALENDAR
