BEGIN:VCALENDAR
VERSION:2.0
PRODID:-//ChamberMaster//Event Calendar 2.0//EN
METHOD:PUBLISH
X-PUBLISHED-TTL:P3D
REFRESH-INTERVAL:P3D
CALSCALE:GREGORIAN
BEGIN:VEVENT
DTSTART:20260926T160000Z
DTEND:20260926T190000Z
X-MICROSOFT-CDO-ALLDAYEVENT:FALSE
SUMMARY:Carpenter Nature Center Minnesota Campus Raptor Release
DESCRIPTION:Join Carpenter Nature Center and The Raptor Center of the University of Minnesota as they release rehabilitated raptors at CNC. Event includes hay wagon tours\, kids activities\, raptors on display\, and a variety of education booths from area environmental organizations.\n\nThis FREE event is enjoyed by all ages.\n\nDogs are not allowed.
X-ALT-DESC;FMTTYPE=text/html:<p>Join Carpenter Nature Center and The Raptor Center of the University of Minnesota as they release rehabilitated raptors at CNC. Event includes hay wagon tours\, kids activities\, raptors on display\, and a variety of education booths from area environmental organizations.</p>\n\n<p>This FREE event is enjoyed by all ages.</p>\n\n<p>Dogs are not allowed.</p>\n
LOCATION:Carpenter St. Croix Valley Nature Center Minnesota Campus 12805 St. Croix Trail South Hastings\, MN 55033
UID:e.2450.38200
SEQUENCE:3
DTSTAMP:20260420T221352Z
URL:https://members.hudsonwi.org/events/details/carpenter-nature-center-minnesota-campus-raptor-release-09-26-2026-38200
END:VEVENT

END:VCALENDAR
