BEGIN:VCALENDAR
VERSION:2.0
PRODID:-//ChamberMaster//Event Calendar 2.0//EN
METHOD:PUBLISH
X-PUBLISHED-TTL:P3D
REFRESH-INTERVAL:P3D
CALSCALE:GREGORIAN
BEGIN:VEVENT
DTSTART:20260210T000000Z
DTEND:20260210T030000Z
X-MICROSOFT-CDO-ALLDAYEVENT:FALSE
SUMMARY:Bricks Neapolitan Pizza Social Hours 2/2026
DESCRIPTION:Bricks Neapolitan Pizza is hosting weekly Social Hours every Monday at 6:00 p.m. throughout February. Each week features a different community activity:\n \n\n2/2: Private event\n\n2/9: Dungeons & Dragons\n\n2/16: Game night with Hudson Pride\n\n2/23: Book club\n \n\nWhile the kitchen will be closed\, the space is open for community members to gather\, connect\, and enjoy a fun\, relaxed evening together.
X-ALT-DESC;FMTTYPE=text/html:<p dir="ltr" style="line-height:1.38\;margin-top:0pt\;margin-bottom:0pt\;"><span style="font-size:12px\;"><span style="font-family:arial\;"><span id="docs-internal-guid-12514775-7fff-6aa3-2305-23c3ca78c723"><span style="color: rgb(0\, 0\, 0)\; background-color: transparent\; font-variant-numeric: normal\; font-variant-east-asian: normal\; font-variant-alternates: normal\; font-variant-position: normal\; font-variant-emoji: normal\; vertical-align: baseline\; white-space-collapse: preserve\;">Bricks Neapolitan Pizza is hosting weekly Social Hours every Monday at 6:00 p.m. throughout February. Each week features a different community activity:</span></span></span></span></p>\n&nbsp\;\n\n<p dir="ltr" style="line-height:1.38\;margin-top:0pt\;margin-bottom:0pt\;"><font color="#000000" face="arial"><span style="font-size: 12px\; white-space-collapse: preserve\;">2/2: Private event<br />\n2/9: Dungeons &amp\; Dragons<br />\n2/16: Game night with Hudson Pride<br />\n2/23: Book club</span></font></p>\n&nbsp\;\n\n<p dir="ltr" style="line-height:1.38\;margin-top:0pt\;margin-bottom:0pt\;"><span style="font-size:12px\;"><span style="font-family:arial\;"><span id="docs-internal-guid-12514775-7fff-6aa3-2305-23c3ca78c723"><span style="color: rgb(0\, 0\, 0)\; background-color: transparent\; font-variant-numeric: normal\; font-variant-east-asian: normal\; font-variant-alternates: normal\; font-variant-position: normal\; font-variant-emoji: normal\; vertical-align: baseline\; white-space-collapse: preserve\;">While the kitchen will be closed\, the space is open for community members to gather\, connect\, and enjoy a fun\, relaxed evening together.</span></span></span></span></p>\n
LOCATION:Bricks Neapolitan Pizza 407 2nd St. #2 Hudson\, WI 54016
UID:e.2450.38308
SEQUENCE:3
DTSTAMP:20260420T151048Z
URL:https://members.hudsonwi.org/events/details/bricks-neapolitan-pizza-social-hours-2-2026-38308
END:VEVENT

END:VCALENDAR
